BEGIN:VCALENDAR
VERSION:2.0
PRODID:-//Evil Horse Brewing Co. - ECPv5.14.2.1//NONSGML v1.0//EN
CALSCALE:GREGORIAN
METHOD:PUBLISH
X-WR-CALNAME:Evil Horse Brewing Co.
X-ORIGINAL-URL:https://evilhorsebrewing.com
X-WR-CALDESC:Events for Evil Horse Brewing Co.
REFRESH-INTERVAL;VALUE=DURATION:PT1H
X-Robots-Tag:noindex
X-PUBLISHED-TTL:PT1H
BEGIN:VTIMEZONE
TZID:America/Chicago
BEGIN:DAYLIGHT
TZOFFSETFROM:-0600
TZOFFSETTO:-0500
TZNAME:CDT
DTSTART:20250309T080000
END:DAYLIGHT
BEGIN:STANDARD
TZOFFSETFROM:-0500
TZOFFSETTO:-0600
TZNAME:CST
DTSTART:20251102T070000
END:STANDARD
END:VTIMEZONE
BEGIN:VEVENT
DTSTART;TZID=America/Chicago:20250914T170000
DTEND;TZID=America/Chicago:20250914T193000
DTSTAMP:20260421T004818
CREATED:20250808T175028Z
LAST-MODIFIED:20250808T175028Z
UID:6690-1757869200-1757878200@evilhorsebrewing.com
SUMMARY:Open Mic with Mike Wallace
DESCRIPTION:
URL:https://evilhorsebrewing.com/event/open-mic-with-mike-wallace-4/
LOCATION:Evil Horse Alehouse\, 1338 Main Street\, Crete\, IL\, 60417\, United States
END:VEVENT
BEGIN:VEVENT
DTSTART;VALUE=DATE:20250914
DTEND;VALUE=DATE:20250915
DTSTAMP:20260421T004818
CREATED:20250808T174748Z
LAST-MODIFIED:20250808T174748Z
UID:6682-1757808000-1757894399@evilhorsebrewing.com
SUMMARY:SUNDAY FUNDAY
DESCRIPTION:$1 off drafts\, ciders & seltzers \n$3 off bottles of wine \nBuild your own Bloody Mary Bar!
URL:https://evilhorsebrewing.com/event/sunday-funday-11/
LOCATION:Evil Horse Alehouse\, 1338 Main Street\, Crete\, IL\, 60417\, United States
END:VEVENT
BEGIN:VEVENT
DTSTART;VALUE=DATE:20250913
DTEND;VALUE=DATE:20250914
DTSTAMP:20260421T004818
CREATED:20250808T174407Z
LAST-MODIFIED:20250808T174407Z
UID:6670-1757721600-1757807999@evilhorsebrewing.com
SUMMARY:To Go Specials
DESCRIPTION:$2 off 4 pack of 16oz cans \n$2 off 6 pack of 12oz cans \n$5 off mixed 12 pack
URL:https://evilhorsebrewing.com/event/to-go-specials-33/
LOCATION:Evil Horse Alehouse\, 1338 Main Street\, Crete\, IL\, 60417\, United States
END:VEVENT
BEGIN:VEVENT
DTSTART;TZID=America/Chicago:20250912T150000
DTEND;TZID=America/Chicago:20250912T180000
DTSTAMP:20260421T004818
CREATED:20250808T174002Z
LAST-MODIFIED:20250808T174002Z
UID:6660-1757689200-1757700000@evilhorsebrewing.com
SUMMARY:HAPPY HOUR
DESCRIPTION:$1 OFF PINTS – $1 OFF CANS – $1 OFF WINE
URL:https://evilhorsebrewing.com/event/happy-hour-73/
LOCATION:Evil Horse Alehouse\, 1338 Main Street\, Crete\, IL\, 60417\, United States
END:VEVENT
BEGIN:VEVENT
DTSTART;TZID=America/Chicago:20250911T190000
DTEND;TZID=America/Chicago:20250911T210000
DTSTAMP:20260421T004818
CREATED:20250808T173430Z
LAST-MODIFIED:20250808T173430Z
UID:6640-1757617200-1757624400@evilhorsebrewing.com
SUMMARY:TRIVIA NIGHT with the Crete Library
DESCRIPTION:
URL:https://evilhorsebrewing.com/event/trivia-night-with-the-crete-library-24/
LOCATION:Evil Horse Alehouse\, 1338 Main Street\, Crete\, IL\, 60417\, United States
END:VEVENT
BEGIN:VEVENT
DTSTART;VALUE=DATE:20250911
DTEND;VALUE=DATE:20250912
DTSTAMP:20260421T004818
CREATED:20250808T173713Z
LAST-MODIFIED:20250808T173713Z
UID:6650-1757548800-1757635199@evilhorsebrewing.com
SUMMARY:$5 Beer it Forward Coupons
DESCRIPTION:
URL:https://evilhorsebrewing.com/event/5-beer-it-forward-coupons-11/
LOCATION:Evil Horse Alehouse\, 1338 Main Street\, Crete\, IL\, 60417\, United States
END:VEVENT
BEGIN:VEVENT
DTSTART;VALUE=DATE:20250911
DTEND;VALUE=DATE:20250912
DTSTAMP:20260421T004818
CREATED:20250808T173350Z
LAST-MODIFIED:20250808T173350Z
UID:6638-1757548800-1757635199@evilhorsebrewing.com
SUMMARY:$8 Sampler Flights
DESCRIPTION:
URL:https://evilhorsebrewing.com/event/8-sampler-flights-64/
LOCATION:Evil Horse Alehouse\, 1338 Main Street\, Crete\, IL\, 60417\, United States
END:VEVENT
BEGIN:VEVENT
DTSTART;VALUE=DATE:20250910
DTEND;VALUE=DATE:20250911
DTSTAMP:20260421T004818
CREATED:20250808T172932Z
LAST-MODIFIED:20250808T172932Z
UID:6624-1757462400-1757548799@evilhorsebrewing.com
SUMMARY:$6 Aperol Spritz
DESCRIPTION:
URL:https://evilhorsebrewing.com/event/6-aperol-spritz-35/
LOCATION:Evil Horse Alehouse\, 1338 Main Street\, Crete\, IL\, 60417\, United States
END:VEVENT
BEGIN:VEVENT
DTSTART;VALUE=DATE:20250910
DTEND;VALUE=DATE:20250911
DTSTAMP:20260421T004818
CREATED:20250808T172455Z
LAST-MODIFIED:20250808T172455Z
UID:6616-1757462400-1757548799@evilhorsebrewing.com
SUMMARY:$4 POURS
DESCRIPTION:
URL:https://evilhorsebrewing.com/event/4-pours-32/
LOCATION:Evil Horse Alehouse\, 1338 Main Street\, Crete\, IL\, 60417\, United States
END:VEVENT
BEGIN:VEVENT
DTSTART;VALUE=DATE:20250910
DTEND;VALUE=DATE:20250911
DTSTAMP:20260421T004818
CREATED:20250806T175920Z
LAST-MODIFIED:20250806T175920Z
UID:6578-1757462400-1757548799@evilhorsebrewing.com
SUMMARY:Whiskey Wednesday
DESCRIPTION:$24 Whiskey Flights \n$12 Old Fashioned \n$1 off Doubles
URL:https://evilhorsebrewing.com/event/whiskey-wednesday-6/
LOCATION:Evil Horse Alehouse\, 1338 Main Street\, Crete\, IL\, 60417\, United States
END:VEVENT
BEGIN:VEVENT
DTSTART;VALUE=DATE:20250909
DTEND;VALUE=DATE:20250910
DTSTAMP:20260421T004818
CREATED:20250806T181036Z
LAST-MODIFIED:20250806T181036Z
UID:6606-1757376000-1757462399@evilhorsebrewing.com
SUMMARY:TACO Tuesday
DESCRIPTION:MARGARITA Special\, $1 off Mexican Lager\, Meatz Big Mama Food Truck Taco Dinner Special
URL:https://evilhorsebrewing.com/event/taco-tuesday-32/
LOCATION:Evil Horse Alehouse\, 1338 Main Street\, Crete\, IL\, 60417\, United States
END:VEVENT
BEGIN:VEVENT
DTSTART;VALUE=DATE:20250908
DTEND;VALUE=DATE:20250909
DTSTAMP:20260421T004818
CREATED:20250806T180626Z
LAST-MODIFIED:20250806T180626Z
UID:6594-1757289600-1757375999@evilhorsebrewing.com
SUMMARY:BEER OF THE WEEK Tapping
DESCRIPTION:
URL:https://evilhorsebrewing.com/event/beer-of-the-week-tapping-30/
LOCATION:Evil Horse Alehouse\, 1338 Main Street\, Crete\, IL\, 60417\, United States
END:VEVENT
BEGIN:VEVENT
DTSTART;VALUE=DATE:20250908
DTEND;VALUE=DATE:20250909
DTSTAMP:20260421T004818
CREATED:20250806T180236Z
LAST-MODIFIED:20250806T180236Z
UID:6584-1757289600-1757375999@evilhorsebrewing.com
SUMMARY:$1 off drafts\, ciders & seltzers
DESCRIPTION:
URL:https://evilhorsebrewing.com/event/1-off-drafts-ciders-seltzers-158/
LOCATION:Evil Horse Alehouse\, 1338 Main Street\, Crete\, IL\, 60417\, United States
END:VEVENT
BEGIN:VEVENT
DTSTART;VALUE=DATE:20250907
DTEND;VALUE=DATE:20250908
DTSTAMP:20260421T004818
CREATED:20250808T174719Z
LAST-MODIFIED:20250808T174719Z
UID:6680-1757203200-1757289599@evilhorsebrewing.com
SUMMARY:SUNDAY FUNDAY
DESCRIPTION:$1 off drafts\, ciders & seltzers \n$3 off bottles of wine \nBuild your own Bloody Mary Bar!
URL:https://evilhorsebrewing.com/event/sunday-funday-10/
LOCATION:Evil Horse Alehouse\, 1338 Main Street\, Crete\, IL\, 60417\, United States
END:VEVENT
BEGIN:VEVENT
DTSTART;VALUE=DATE:20250906
DTEND;VALUE=DATE:20250907
DTSTAMP:20260421T004818
CREATED:20250808T174333Z
LAST-MODIFIED:20250808T174333Z
UID:6668-1757116800-1757203199@evilhorsebrewing.com
SUMMARY:To Go Specials
DESCRIPTION:$2 off 4 pack of 16oz cans \n$2 off 6 pack of 12oz cans \n$5 off mixed 12 pack
URL:https://evilhorsebrewing.com/event/to-go-specials-32/
LOCATION:Evil Horse Alehouse\, 1338 Main Street\, Crete\, IL\, 60417\, United States
END:VEVENT
BEGIN:VEVENT
DTSTART;TZID=America/Chicago:20250905T190000
DTEND;TZID=America/Chicago:20250905T220000
DTSTAMP:20260421T004818
CREATED:20250108T175639Z
LAST-MODIFIED:20250108T175639Z
UID:5721-1757098800-1757109600@evilhorsebrewing.com
SUMMARY:Live Music with Ted Jones Piano Man
DESCRIPTION:
URL:https://evilhorsebrewing.com/event/live-music-with-ted-jones-piano-man-26/
LOCATION:Evil Horse Brewing Co.\, 1338 Main Street\, CRETE\, IL\, 60417
END:VEVENT
BEGIN:VEVENT
DTSTART;TZID=America/Chicago:20250905T150000
DTEND;TZID=America/Chicago:20250905T180000
DTSTAMP:20260421T004818
CREATED:20250808T173923Z
LAST-MODIFIED:20250808T173923Z
UID:6658-1757084400-1757095200@evilhorsebrewing.com
SUMMARY:HAPPY HOUR
DESCRIPTION:$1 OFF PINTS – $1 OFF CANS – $1 OFF WINE
URL:https://evilhorsebrewing.com/event/happy-hour-72/
LOCATION:Evil Horse Alehouse\, 1338 Main Street\, Crete\, IL\, 60417\, United States
END:VEVENT
BEGIN:VEVENT
DTSTART;VALUE=DATE:20250904
DTEND;VALUE=DATE:20250905
DTSTAMP:20260421T004818
CREATED:20250808T173648Z
LAST-MODIFIED:20250808T173648Z
UID:6648-1756944000-1757030399@evilhorsebrewing.com
SUMMARY:$5 Beer it Forward Coupons
DESCRIPTION:
URL:https://evilhorsebrewing.com/event/5-beer-it-forward-coupons-10/
LOCATION:Evil Horse Alehouse\, 1338 Main Street\, Crete\, IL\, 60417\, United States
END:VEVENT
BEGIN:VEVENT
DTSTART;VALUE=DATE:20250904
DTEND;VALUE=DATE:20250905
DTSTAMP:20260421T004818
CREATED:20250808T173328Z
LAST-MODIFIED:20250808T173328Z
UID:6636-1756944000-1757030399@evilhorsebrewing.com
SUMMARY:$8 Sampler Flights
DESCRIPTION:
URL:https://evilhorsebrewing.com/event/8-sampler-flights-63/
LOCATION:Evil Horse Alehouse\, 1338 Main Street\, Crete\, IL\, 60417\, United States
END:VEVENT
BEGIN:VEVENT
DTSTART;VALUE=DATE:20250903
DTEND;VALUE=DATE:20250904
DTSTAMP:20260421T004818
CREATED:20250808T172848Z
LAST-MODIFIED:20250808T172848Z
UID:6622-1756857600-1756943999@evilhorsebrewing.com
SUMMARY:$6 Aperol Spritz
DESCRIPTION:
URL:https://evilhorsebrewing.com/event/6-aperol-spritz-34/
LOCATION:Evil Horse Alehouse\, 1338 Main Street\, Crete\, IL\, 60417\, United States
END:VEVENT
BEGIN:VEVENT
DTSTART;VALUE=DATE:20250903
DTEND;VALUE=DATE:20250904
DTSTAMP:20260421T004818
CREATED:20250808T172423Z
LAST-MODIFIED:20250808T172423Z
UID:6614-1756857600-1756943999@evilhorsebrewing.com
SUMMARY:$4 POURS
DESCRIPTION:
URL:https://evilhorsebrewing.com/event/4-pours-31/
LOCATION:Evil Horse Alehouse\, 1338 Main Street\, Crete\, IL\, 60417\, United States
END:VEVENT
BEGIN:VEVENT
DTSTART;VALUE=DATE:20250903
DTEND;VALUE=DATE:20250904
DTSTAMP:20260421T004818
CREATED:20250806T175818Z
LAST-MODIFIED:20250806T175818Z
UID:6576-1756857600-1756943999@evilhorsebrewing.com
SUMMARY:Whiskey Wednesday
DESCRIPTION:$24 Whiskey Flights \n$12 Old Fashioned \n$1 off Doubles
URL:https://evilhorsebrewing.com/event/whiskey-wednesday-5/
LOCATION:Evil Horse Alehouse\, 1338 Main Street\, Crete\, IL\, 60417\, United States
END:VEVENT
BEGIN:VEVENT
DTSTART;VALUE=DATE:20250902
DTEND;VALUE=DATE:20250903
DTSTAMP:20260421T004818
CREATED:20250806T180949Z
LAST-MODIFIED:20250806T180949Z
UID:6604-1756771200-1756857599@evilhorsebrewing.com
SUMMARY:TACO Tuesday
DESCRIPTION:MARGARITA Special\, $1 off Mexican Lager\, Meatz Big Mama Food Truck Taco Dinner Special
URL:https://evilhorsebrewing.com/event/taco-tuesday-31/
LOCATION:Evil Horse Alehouse\, 1338 Main Street\, Crete\, IL\, 60417\, United States
END:VEVENT
BEGIN:VEVENT
DTSTART;VALUE=DATE:20250901
DTEND;VALUE=DATE:20250902
DTSTAMP:20260421T004818
CREATED:20250806T180555Z
LAST-MODIFIED:20250806T180555Z
UID:6592-1756684800-1756771199@evilhorsebrewing.com
SUMMARY:BEER OF THE WEEK Tapping
DESCRIPTION:
URL:https://evilhorsebrewing.com/event/beer-of-the-week-tapping-29/
LOCATION:Evil Horse Alehouse\, 1338 Main Street\, Crete\, IL\, 60417\, United States
END:VEVENT
BEGIN:VEVENT
DTSTART;VALUE=DATE:20250901
DTEND;VALUE=DATE:20250902
DTSTAMP:20260421T004818
CREATED:20250731T164736Z
LAST-MODIFIED:20250731T164904Z
UID:6384-1756684800-1756771199@evilhorsebrewing.com
SUMMARY:$1 off drafts\, ciders & seltzers
DESCRIPTION:
URL:https://evilhorsebrewing.com/event/1-off-drafts-ciders-seltzers-155/
LOCATION:Evil Horse Brewing Co.\, 1338 Main Street\, CRETE\, IL\, 60417
END:VEVENT
BEGIN:VEVENT
DTSTART;VALUE=DATE:20250831
DTEND;VALUE=DATE:20250901
DTSTAMP:20260421T004818
CREATED:20250731T175528Z
LAST-MODIFIED:20250731T175528Z
UID:6565-1756598400-1756684799@evilhorsebrewing.com
SUMMARY:SUNDAY FUNDAY!
DESCRIPTION:$1 off drafts\, ciders & seltzers \n$3 off bottles of wine \nBuild your own Bloody Mary Bar!
URL:https://evilhorsebrewing.com/event/sunday-funday-9/
LOCATION:Evil Horse Alehouse\, 1338 Main Street\, Crete\, IL\, 60417\, United States
END:VEVENT
BEGIN:VEVENT
DTSTART;VALUE=DATE:20250830
DTEND;VALUE=DATE:20250831
DTSTAMP:20260421T004818
CREATED:20250731T173654Z
LAST-MODIFIED:20250731T173654Z
UID:6515-1756512000-1756598399@evilhorsebrewing.com
SUMMARY:To Go Specials
DESCRIPTION:$2 off 4 pack of 16oz cans \n$2 off 6 pack of 12oz cans \n$5 off mixed 12 pack
URL:https://evilhorsebrewing.com/event/to-go-specials-30/
LOCATION:Evil Horse Alehouse\, 1338 Main Street\, Crete\, IL\, 60417\, United States
END:VEVENT
BEGIN:VEVENT
DTSTART;TZID=America/Chicago:20250829T150000
DTEND;TZID=America/Chicago:20250829T180000
DTSTAMP:20260421T004818
CREATED:20250731T172941Z
LAST-MODIFIED:20250731T172941Z
UID:6499-1756479600-1756490400@evilhorsebrewing.com
SUMMARY:HAPPY HOUR
DESCRIPTION:$1 OFF PINTS – $1 OFF CANS – $1 OFF WINE
URL:https://evilhorsebrewing.com/event/happy-hour-71/
LOCATION:Evil Horse Alehouse\, 1338 Main Street\, Crete\, IL\, 60417\, United States
END:VEVENT
BEGIN:VEVENT
DTSTART;VALUE=DATE:20250828
DTEND;VALUE=DATE:20250829
DTSTAMP:20260421T004818
CREATED:20250731T174643Z
LAST-MODIFIED:20250731T174643Z
UID:6539-1756339200-1756425599@evilhorsebrewing.com
SUMMARY:$5 Beer it Forward Coupons
DESCRIPTION:
URL:https://evilhorsebrewing.com/event/5-beer-it-forward-coupons-8/
LOCATION:Evil Horse Alehouse\, 1338 Main Street\, Crete\, IL\, 60417\, United States
END:VEVENT
BEGIN:VEVENT
DTSTART;VALUE=DATE:20250828
DTEND;VALUE=DATE:20250829
DTSTAMP:20260421T004818
CREATED:20250731T172214Z
LAST-MODIFIED:20250731T172214Z
UID:6479-1756339200-1756425599@evilhorsebrewing.com
SUMMARY:$8 Sampler Flights
DESCRIPTION:
URL:https://evilhorsebrewing.com/event/8-sampler-flights-62/
LOCATION:Evil Horse Alehouse\, 1338 Main Street\, Crete\, IL\, 60417\, United States
END:VEVENT
END:VCALENDAR