BEGIN:VCALENDAR
VERSION:2.0
PRODID:-//Evil Horse Brewing Co. - ECPv5.14.2.1//NONSGML v1.0//EN
CALSCALE:GREGORIAN
METHOD:PUBLISH
X-WR-CALNAME:Evil Horse Brewing Co.
X-ORIGINAL-URL:https://evilhorsebrewing.com
X-WR-CALDESC:Events for Evil Horse Brewing Co.
REFRESH-INTERVAL;VALUE=DURATION:PT1H
X-Robots-Tag:noindex
X-PUBLISHED-TTL:PT1H
BEGIN:VTIMEZONE
TZID:America/Chicago
BEGIN:DAYLIGHT
TZOFFSETFROM:-0600
TZOFFSETTO:-0500
TZNAME:CDT
DTSTART:20250309T080000
END:DAYLIGHT
BEGIN:STANDARD
TZOFFSETFROM:-0500
TZOFFSETTO:-0600
TZNAME:CST
DTSTART:20251102T070000
END:STANDARD
END:VTIMEZONE
BEGIN:VEVENT
DTSTART;TZID=America/Chicago:20250413T130000
DTEND;TZID=America/Chicago:20250413T160000
DTSTAMP:20260425T094817
CREATED:20250303T191501Z
LAST-MODIFIED:20250303T191501Z
UID:6151-1744549200-1744560000@evilhorsebrewing.com
SUMMARY:$5 BLIND DRAW CORNHOLE
DESCRIPTION:
URL:https://evilhorsebrewing.com/event/5-blind-draw-cornhole-7/
LOCATION:Evil Horse Brewing Co.\, 1338 Main Street\, CRETE\, IL\, 60417
END:VEVENT
BEGIN:VEVENT
DTSTART;VALUE=DATE:20250413
DTEND;VALUE=DATE:20250414
DTSTAMP:20260425T094817
CREATED:20250227T181613Z
LAST-MODIFIED:20250227T181613Z
UID:6032-1744502400-1744588799@evilhorsebrewing.com
SUMMARY:$1 off drafts\, ciders & seltzers
DESCRIPTION:
URL:https://evilhorsebrewing.com/event/1-off-drafts-ciders-seltzers-134/
LOCATION:Evil Horse Brewing Co.\, 1338 Main Street\, CRETE\, IL\, 60417
END:VEVENT
BEGIN:VEVENT
DTSTART;VALUE=DATE:20250412
DTEND;VALUE=DATE:20250413
DTSTAMP:20260425T094817
CREATED:20250227T174640Z
LAST-MODIFIED:20250227T174640Z
UID:5985-1744416000-1744502399@evilhorsebrewing.com
SUMMARY:To Go Specials
DESCRIPTION:$2 off 4 pack of 16oz cans \n$2 off 6 pack of 12oz cans \n$5 off mixed 12 pack \n$10 pack of the week
URL:https://evilhorsebrewing.com/event/to-go-specials-14/
LOCATION:Evil Horse Brewing Co.\, 1338 Main Street\, CRETE\, IL\, 60417
END:VEVENT
BEGIN:VEVENT
DTSTART;TZID=America/Chicago:20250411T190000
DTEND;TZID=America/Chicago:20250411T220000
DTSTAMP:20260425T094817
CREATED:20250227T174427Z
LAST-MODIFIED:20250227T174427Z
UID:5983-1744398000-1744408800@evilhorsebrewing.com
SUMMARY:Live Music with King & Ross
DESCRIPTION:
URL:https://evilhorsebrewing.com/event/live-music-with-king-ross-6/
LOCATION:Evil Horse Brewing Co.\, 1338 Main Street\, CRETE\, IL\, 60417
END:VEVENT
BEGIN:VEVENT
DTSTART;TZID=America/Chicago:20250411T150000
DTEND;TZID=America/Chicago:20250411T180000
DTSTAMP:20260425T094817
CREATED:20250304T181105Z
LAST-MODIFIED:20250304T181105Z
UID:6192-1744383600-1744394400@evilhorsebrewing.com
SUMMARY:HAPPY HOUR
DESCRIPTION:$1 OFF PINTS – $1 OFF CANS – $1 OFF WINE
URL:https://evilhorsebrewing.com/event/happy-hour-56/
LOCATION:Evil Horse Brewing Co.\, 1338 Main Street\, CRETE\, IL\, 60417
END:VEVENT
BEGIN:VEVENT
DTSTART;TZID=America/Chicago:20250410T190000
DTEND;TZID=America/Chicago:20250410T210000
DTSTAMP:20260425T094817
CREATED:20250108T174831Z
LAST-MODIFIED:20250108T174831Z
UID:5699-1744311600-1744318800@evilhorsebrewing.com
SUMMARY:TRIVIA Night
DESCRIPTION:
URL:https://evilhorsebrewing.com/event/trivia-night-8/
LOCATION:Evil Horse Brewing Co.\, 1338 Main Street\, CRETE\, IL\, 60417
END:VEVENT
BEGIN:VEVENT
DTSTART;VALUE=DATE:20250410
DTEND;VALUE=DATE:20250411
DTSTAMP:20260425T094817
CREATED:20250304T180037Z
LAST-MODIFIED:20250304T180037Z
UID:6169-1744243200-1744329599@evilhorsebrewing.com
SUMMARY:$8 Sampler Flights
DESCRIPTION:
URL:https://evilhorsebrewing.com/event/8-sampler-flights-50/
LOCATION:Evil Horse Brewing Co.\, 1338 Main Street\, CRETE\, IL\, 60417
END:VEVENT
BEGIN:VEVENT
DTSTART;VALUE=DATE:20250410
DTEND;VALUE=DATE:20250411
DTSTAMP:20260425T094817
CREATED:20250108T190622Z
LAST-MODIFIED:20250108T191118Z
UID:5897-1744243200-1744329599@evilhorsebrewing.com
SUMMARY:$5 BEER IT FORWARD
DESCRIPTION:
URL:https://evilhorsebrewing.com/event/5-beer-it-forward-9/
LOCATION:Evil Horse Brewing Co.\, 1338 Main Street\, CRETE\, IL\, 60417
END:VEVENT
BEGIN:VEVENT
DTSTART;VALUE=DATE:20250409
DTEND;VALUE=DATE:20250410
DTSTAMP:20260425T094817
CREATED:20250303T190707Z
LAST-MODIFIED:20250303T190707Z
UID:6131-1744156800-1744243199@evilhorsebrewing.com
SUMMARY:$4 POURS
DESCRIPTION:
URL:https://evilhorsebrewing.com/event/4-pours-14/
LOCATION:Evil Horse Brewing Co.\, 1338 Main Street\, CRETE\, IL\, 60417
END:VEVENT
BEGIN:VEVENT
DTSTART;VALUE=DATE:20250409
DTEND;VALUE=DATE:20250410
DTSTAMP:20260425T094817
CREATED:20250303T190346Z
LAST-MODIFIED:20250303T190346Z
UID:6123-1744156800-1744243199@evilhorsebrewing.com
SUMMARY:$6 Aperol Spritz
DESCRIPTION:
URL:https://evilhorsebrewing.com/event/6-aperol-spritz-14/
LOCATION:Evil Horse Brewing Co.\, 1338 Main Street\, CRETE\, IL\, 60417
END:VEVENT
BEGIN:VEVENT
DTSTART;VALUE=DATE:20250408
DTEND;VALUE=DATE:20250409
DTSTAMP:20260425T094817
CREATED:20250228T234006Z
LAST-MODIFIED:20250228T234006Z
UID:6114-1744070400-1744156799@evilhorsebrewing.com
SUMMARY:TACO Tuesday
DESCRIPTION:MARGARITA Special\, $1 off Mexican Lager\, Meatz Big Mama Food Truck Taco Dinner Special
URL:https://evilhorsebrewing.com/event/taco-tuesday-14/
LOCATION:Evil Horse Brewing Co.\, 1338 Main Street\, CRETE\, IL\, 60417
END:VEVENT
BEGIN:VEVENT
DTSTART;VALUE=DATE:20250407
DTEND;VALUE=DATE:20250408
DTSTAMP:20260425T094817
CREATED:20250227T183627Z
LAST-MODIFIED:20250227T183627Z
UID:6096-1743984000-1744070399@evilhorsebrewing.com
SUMMARY:BEER OF THE WEEK Tapping
DESCRIPTION:
URL:https://evilhorsebrewing.com/event/beer-of-the-week-tapping-21/
LOCATION:Evil Horse Brewing Co.\, 1338 Main Street\, CRETE\, IL\, 60417
END:VEVENT
BEGIN:VEVENT
DTSTART;VALUE=DATE:20250407
DTEND;VALUE=DATE:20250408
DTSTAMP:20260425T094817
CREATED:20250227T180901Z
LAST-MODIFIED:20250227T180901Z
UID:6008-1743984000-1744070399@evilhorsebrewing.com
SUMMARY:$1 off drafts\, ciders & seltzers
DESCRIPTION:
URL:https://evilhorsebrewing.com/event/1-off-drafts-ciders-seltzers-122/
LOCATION:Evil Horse Brewing Co.\, 1338 Main Street\, CRETE\, IL\, 60417
END:VEVENT
BEGIN:VEVENT
DTSTART;TZID=America/Chicago:20250406T130000
DTEND;TZID=America/Chicago:20250406T160000
DTSTAMP:20260425T094817
CREATED:20250303T191428Z
LAST-MODIFIED:20250303T191428Z
UID:6149-1743944400-1743955200@evilhorsebrewing.com
SUMMARY:$5 BLIND DRAW CORNHOLE
DESCRIPTION:
URL:https://evilhorsebrewing.com/event/5-blind-draw-cornhole-6/
LOCATION:Evil Horse Brewing Co.\, 1338 Main Street\, CRETE\, IL\, 60417
END:VEVENT
BEGIN:VEVENT
DTSTART;VALUE=DATE:20250406
DTEND;VALUE=DATE:20250407
DTSTAMP:20260425T094817
CREATED:20250108T192654Z
LAST-MODIFIED:20250108T192654Z
UID:5944-1743897600-1743983999@evilhorsebrewing.com
SUMMARY:TAP TAKE OVER with Homewood Brewing Co.
DESCRIPTION:$8 Sampler Flights – $1 off drafts
URL:https://evilhorsebrewing.com/event/tap-take-over-with-homewood-brewing-co/
LOCATION:Evil Horse Brewing Co.\, 1338 Main Street\, CRETE\, IL\, 60417
END:VEVENT
BEGIN:VEVENT
DTSTART;VALUE=DATE:20250406
DTEND;VALUE=DATE:20250407
DTSTAMP:20260425T094817
CREATED:20250108T173409Z
LAST-MODIFIED:20250108T174256Z
UID:5671-1743897600-1743983999@evilhorsebrewing.com
SUMMARY:$1 off drafts\, ciders & seltzers
DESCRIPTION:
URL:https://evilhorsebrewing.com/event/1-off-drafts-ciders-seltzers-112/
LOCATION:Evil Horse Brewing Co.\, 1338 Main Street\, CRETE\, IL\, 60417
END:VEVENT
BEGIN:VEVENT
DTSTART;VALUE=DATE:20250405
DTEND;VALUE=DATE:20250406
DTSTAMP:20260425T094817
CREATED:20250227T180206Z
LAST-MODIFIED:20250227T180206Z
UID:5997-1743811200-1743897599@evilhorsebrewing.com
SUMMARY:To Go Specials
DESCRIPTION:$2 off 4 pack of 16oz cans \n$2 off 6 pack of 12oz cans \n$5 off mixed 12 pack \n$10 pack of the week
URL:https://evilhorsebrewing.com/event/to-go-specials-20/
LOCATION:Evil Horse Brewing Co.\, 1338 Main Street\, CRETE\, IL\, 60417
END:VEVENT
BEGIN:VEVENT
DTSTART;TZID=America/Chicago:20250404T190000
DTEND;TZID=America/Chicago:20250404T220000
DTSTAMP:20260425T094817
CREATED:20250108T175352Z
LAST-MODIFIED:20250108T175352Z
UID:5713-1743793200-1743804000@evilhorsebrewing.com
SUMMARY:Live Music with Ted Jones Piano Man
DESCRIPTION:
URL:https://evilhorsebrewing.com/event/live-music-with-ted-jones-piano-man-22/
LOCATION:Evil Horse Brewing Co.\, 1338 Main Street\, CRETE\, IL\, 60417
END:VEVENT
BEGIN:VEVENT
DTSTART;TZID=America/Chicago:20250404T150000
DTEND;TZID=America/Chicago:20250404T180000
DTSTAMP:20260425T094817
CREATED:20250108T192319Z
LAST-MODIFIED:20250108T192319Z
UID:5938-1743778800-1743789600@evilhorsebrewing.com
SUMMARY:HAPPY HOUR
DESCRIPTION:$1 OFF PINTS – $1 OFF CANS – $1 OFF WINE
URL:https://evilhorsebrewing.com/event/happy-hour-55/
LOCATION:Evil Horse Brewing Co.\, 1338 Main Street\, CRETE\, IL\, 60417
END:VEVENT
BEGIN:VEVENT
DTSTART;VALUE=DATE:20250403
DTEND;VALUE=DATE:20250404
DTSTAMP:20260425T094817
CREATED:20250108T190502Z
LAST-MODIFIED:20250108T191029Z
UID:5891-1743638400-1743724799@evilhorsebrewing.com
SUMMARY:$5 BEER IT FORWARD
DESCRIPTION:
URL:https://evilhorsebrewing.com/event/5-beer-it-forward-6/
LOCATION:Evil Horse Brewing Co.\, 1338 Main Street\, CRETE\, IL\, 60417
END:VEVENT
BEGIN:VEVENT
DTSTART;VALUE=DATE:20250403
DTEND;VALUE=DATE:20250404
DTSTAMP:20260425T094817
CREATED:20250108T184155Z
LAST-MODIFIED:20250108T184602Z
UID:5851-1743638400-1743724799@evilhorsebrewing.com
SUMMARY:$8 Sampler Flights
DESCRIPTION:
URL:https://evilhorsebrewing.com/event/8-sampler-flights-38/
LOCATION:Evil Horse Brewing Co.\, 1338 Main Street\, CRETE\, IL\, 60417
END:VEVENT
BEGIN:VEVENT
DTSTART;VALUE=DATE:20250402
DTEND;VALUE=DATE:20250403
DTSTAMP:20260425T094817
CREATED:20250108T183818Z
LAST-MODIFIED:20250108T183818Z
UID:5837-1743552000-1743638399@evilhorsebrewing.com
SUMMARY:$6 Aperol Spritz
DESCRIPTION:
URL:https://evilhorsebrewing.com/event/6-aperol-spritz-13/
LOCATION:Evil Horse Brewing Co.\, 1338 Main Street\, CRETE\, IL\, 60417
END:VEVENT
BEGIN:VEVENT
DTSTART;VALUE=DATE:20250402
DTEND;VALUE=DATE:20250403
DTSTAMP:20260425T094817
CREATED:20250108T183007Z
LAST-MODIFIED:20250108T183007Z
UID:5811-1743552000-1743638399@evilhorsebrewing.com
SUMMARY:$4 POURS
DESCRIPTION:
URL:https://evilhorsebrewing.com/event/4-pours-13/
LOCATION:Evil Horse Brewing Co.\, 1338 Main Street\, CRETE\, IL\, 60417
END:VEVENT
BEGIN:VEVENT
DTSTART;VALUE=DATE:20250401
DTEND;VALUE=DATE:20250402
DTSTAMP:20260425T094817
CREATED:20250108T182239Z
LAST-MODIFIED:20250108T182239Z
UID:5785-1743465600-1743551999@evilhorsebrewing.com
SUMMARY:TACO Tuesday
DESCRIPTION:MARGARITA Special\, $1 off Mexican Lager\, Meatz Big Mama Food Truck Taco Dinner Special
URL:https://evilhorsebrewing.com/event/taco-tuesday-13/
LOCATION:Evil Horse Brewing Co.\, 1338 Main Street\, CRETE\, IL\, 60417
END:VEVENT
BEGIN:VEVENT
DTSTART;VALUE=DATE:20250331
DTEND;VALUE=DATE:20250401
DTSTAMP:20260425T094817
CREATED:20250108T180804Z
LAST-MODIFIED:20250108T180804Z
UID:5759-1743379200-1743465599@evilhorsebrewing.com
SUMMARY:BEER OF THE WEEK Tapping
DESCRIPTION:
URL:https://evilhorsebrewing.com/event/beer-of-the-week-tapping-13/
LOCATION:Evil Horse Brewing Co.\, 1338 Main Street\, CRETE\, IL\, 60417
END:VEVENT
BEGIN:VEVENT
DTSTART;VALUE=DATE:20250331
DTEND;VALUE=DATE:20250401
DTSTAMP:20260425T094817
CREATED:20250108T173003Z
LAST-MODIFIED:20250108T173003Z
UID:5661-1743379200-1743465599@evilhorsebrewing.com
SUMMARY:$1 off drafts\, ciders & seltzers
DESCRIPTION:
URL:https://evilhorsebrewing.com/event/1-off-drafts-ciders-seltzers-107/
LOCATION:Evil Horse Brewing Co.\, 1338 Main Street\, CRETE\, IL\, 60417
END:VEVENT
BEGIN:VEVENT
DTSTART;TZID=America/Chicago:20250330T130000
DTEND;TZID=America/Chicago:20250330T160000
DTSTAMP:20260425T094817
CREATED:20250303T191359Z
LAST-MODIFIED:20250303T191359Z
UID:6147-1743339600-1743350400@evilhorsebrewing.com
SUMMARY:$5 BLIND DRAW CORNHOLE
DESCRIPTION:
URL:https://evilhorsebrewing.com/event/5-blind-draw-cornhole-5/
LOCATION:Evil Horse Brewing Co.\, 1338 Main Street\, CRETE\, IL\, 60417
END:VEVENT
BEGIN:VEVENT
DTSTART;VALUE=DATE:20250330
DTEND;VALUE=DATE:20250331
DTSTAMP:20260425T094817
CREATED:20250324T172207Z
LAST-MODIFIED:20250324T172207Z
UID:6220-1743292800-1743379199@evilhorsebrewing.com
SUMMARY:A Hazy Hometown Crosstown Classic
DESCRIPTION:It’s almost opening day here in Chicago! Lucky for us we have two teams to cheer for\, and everyone has their favorite!\n\n\nJoin us on Sunday\, March 30 as we tap two great hazy IPAs for a little hometown crosstown classic of our own! Wear your team gear\, drink your team’s beer! Let’s see if the Northsiders or the Southsiders show up to claim victory!\n\n\nStarts at noon!
URL:https://evilhorsebrewing.com/event/a-hazy-hometown-crosstown-classic/
LOCATION:Evil Horse Brewing Co.\, 1338 Main Street\, CRETE\, IL\, 60417
END:VEVENT
BEGIN:VEVENT
DTSTART;VALUE=DATE:20250330
DTEND;VALUE=DATE:20250331
DTSTAMP:20260425T094817
CREATED:20250108T174221Z
LAST-MODIFIED:20250108T174221Z
UID:5689-1743292800-1743379199@evilhorsebrewing.com
SUMMARY:$1 off drafts\, ciders & seltzers
DESCRIPTION:
URL:https://evilhorsebrewing.com/event/1-off-drafts-ciders-seltzers-121/
LOCATION:Evil Horse Brewing Co.\, 1338 Main Street\, CRETE\, IL\, 60417
END:VEVENT
BEGIN:VEVENT
DTSTART;VALUE=DATE:20250329
DTEND;VALUE=DATE:20250330
DTSTAMP:20260425T094817
CREATED:20250109T195940Z
LAST-MODIFIED:20250109T195940Z
UID:5968-1743206400-1743292799@evilhorsebrewing.com
SUMMARY:To Go Specials
DESCRIPTION:$2 off 4 pack of 16oz cans \n$2 off 6 pack of 12oz cans \n$5 off mixed 12 pack \n$10 pack of the week
URL:https://evilhorsebrewing.com/event/to-go-specials-12/
LOCATION:Evil Horse Brewing Co.\, 1338 Main Street\, CRETE\, IL\, 60417
END:VEVENT
END:VCALENDAR