BEGIN:VCALENDAR
VERSION:2.0
PRODID:-//Evil Horse Brewing Co. - ECPv5.14.2.1//NONSGML v1.0//EN
CALSCALE:GREGORIAN
METHOD:PUBLISH
X-WR-CALNAME:Evil Horse Brewing Co.
X-ORIGINAL-URL:https://evilhorsebrewing.com
X-WR-CALDESC:Events for Evil Horse Brewing Co.
REFRESH-INTERVAL;VALUE=DURATION:PT1H
X-Robots-Tag:noindex
X-PUBLISHED-TTL:PT1H
BEGIN:VTIMEZONE
TZID:America/Chicago
BEGIN:DAYLIGHT
TZOFFSETFROM:-0600
TZOFFSETTO:-0500
TZNAME:CDT
DTSTART:20250309T080000
END:DAYLIGHT
BEGIN:STANDARD
TZOFFSETFROM:-0500
TZOFFSETTO:-0600
TZNAME:CST
DTSTART:20251102T070000
END:STANDARD
END:VTIMEZONE
BEGIN:VEVENT
DTSTART;VALUE=DATE:20250430
DTEND;VALUE=DATE:20250501
DTSTAMP:20260425T072054
CREATED:20250303T190823Z
LAST-MODIFIED:20250303T190823Z
UID:6137-1745971200-1746057599@evilhorsebrewing.com
SUMMARY:$4 POURS
DESCRIPTION:
URL:https://evilhorsebrewing.com/event/4-pours-17/
LOCATION:Evil Horse Brewing Co.\, 1338 Main Street\, CRETE\, IL\, 60417
END:VEVENT
BEGIN:VEVENT
DTSTART;VALUE=DATE:20250430
DTEND;VALUE=DATE:20250501
DTSTAMP:20260425T072054
CREATED:20250303T190618Z
LAST-MODIFIED:20250303T190618Z
UID:6129-1745971200-1746057599@evilhorsebrewing.com
SUMMARY:$6 Aperol Spritz
DESCRIPTION:
URL:https://evilhorsebrewing.com/event/6-aperol-spritz-17/
LOCATION:Evil Horse Brewing Co.\, 1338 Main Street\, CRETE\, IL\, 60417
END:VEVENT
BEGIN:VEVENT
DTSTART;VALUE=DATE:20250429
DTEND;VALUE=DATE:20250430
DTSTAMP:20260425T072054
CREATED:20250324T173052Z
LAST-MODIFIED:20250324T173124Z
UID:6222-1745884800-1745971199@evilhorsebrewing.com
SUMMARY:TACO Tuesday
DESCRIPTION:MARGARITA Special\, $1 off Mexican Lager\, Meatz Big Mama Food Truck Taco Dinner Special
URL:https://evilhorsebrewing.com/event/taco-tuesday-17/
LOCATION:Evil Horse Brewing Co.\, 1338 Main Street\, CRETE\, IL\, 60417
END:VEVENT
BEGIN:VEVENT
DTSTART;VALUE=DATE:20250428
DTEND;VALUE=DATE:20250429
DTSTAMP:20260425T072054
CREATED:20250227T183258Z
LAST-MODIFIED:20250227T183258Z
UID:6086-1745798400-1745884799@evilhorsebrewing.com
SUMMARY:BEER OF THE WEEK Tapping
DESCRIPTION:
URL:https://evilhorsebrewing.com/event/beer-of-the-week-tapping-16/
LOCATION:Evil Horse Brewing Co.\, 1338 Main Street\, CRETE\, IL\, 60417
END:VEVENT
BEGIN:VEVENT
DTSTART;VALUE=DATE:20250428
DTEND;VALUE=DATE:20250429
DTSTAMP:20260425T072054
CREATED:20250227T181033Z
LAST-MODIFIED:20250227T181033Z
UID:6014-1745798400-1745884799@evilhorsebrewing.com
SUMMARY:$1 off drafts\, ciders & seltzers
DESCRIPTION:
URL:https://evilhorsebrewing.com/event/1-off-drafts-ciders-seltzers-125/
LOCATION:Evil Horse Brewing Co.\, 1338 Main Street\, CRETE\, IL\, 60417
END:VEVENT
BEGIN:VEVENT
DTSTART;TZID=America/Chicago:20250427T130000
DTEND;TZID=America/Chicago:20250427T160000
DTSTAMP:20260425T072054
CREATED:20250303T193105Z
LAST-MODIFIED:20250303T193105Z
UID:6155-1745758800-1745769600@evilhorsebrewing.com
SUMMARY:$5 BLIND DRAW CORNHOLE
DESCRIPTION:
URL:https://evilhorsebrewing.com/event/5-blind-draw-cornhole-9/
LOCATION:Evil Horse Brewing Co.\, 1338 Main Street\, CRETE\, IL\, 60417
END:VEVENT
BEGIN:VEVENT
DTSTART;VALUE=DATE:20250427
DTEND;VALUE=DATE:20250428
DTSTAMP:20260425T072054
CREATED:20250227T181710Z
LAST-MODIFIED:20250227T181710Z
UID:6036-1745712000-1745798399@evilhorsebrewing.com
SUMMARY:$1 off drafts\, ciders & seltzers
DESCRIPTION:
URL:https://evilhorsebrewing.com/event/1-off-drafts-ciders-seltzers-136/
LOCATION:Evil Horse Brewing Co.\, 1338 Main Street\, CRETE\, IL\, 60417
END:VEVENT
BEGIN:VEVENT
DTSTART;VALUE=DATE:20250426
DTEND;VALUE=DATE:20250427
DTSTAMP:20260425T072054
CREATED:20250227T174825Z
LAST-MODIFIED:20250227T174825Z
UID:5989-1745625600-1745711999@evilhorsebrewing.com
SUMMARY:To Go Specials
DESCRIPTION:$2 off 4 pack of 16oz cans \n$2 off 6 pack of 12oz cans \n$5 off mixed 12 pack \n$10 pack of the week
URL:https://evilhorsebrewing.com/event/to-go-specials-16/
LOCATION:Evil Horse Brewing Co.\, 1338 Main Street\, CRETE\, IL\, 60417
END:VEVENT
BEGIN:VEVENT
DTSTART;TZID=America/Chicago:20250425T150000
DTEND;TZID=America/Chicago:20250425T180000
DTSTAMP:20260425T072054
CREATED:20250304T181245Z
LAST-MODIFIED:20250304T181245Z
UID:6196-1745593200-1745604000@evilhorsebrewing.com
SUMMARY:HAPPY HOUR
DESCRIPTION:$1 OFF PINTS – $1 OFF CANS – $1 OFF WINE
URL:https://evilhorsebrewing.com/event/happy-hour-58/
LOCATION:Evil Horse Brewing Co.\, 1338 Main Street\, CRETE\, IL\, 60417
END:VEVENT
BEGIN:VEVENT
DTSTART;TZID=America/Chicago:20250424T183000
DTEND;TZID=America/Chicago:20250424T210000
DTSTAMP:20260425T072054
CREATED:20250303T193902Z
LAST-MODIFIED:20250303T193902Z
UID:6159-1745519400-1745528400@evilhorsebrewing.com
SUMMARY:STERN PINBALL TOURNAMENT
DESCRIPTION:
URL:https://evilhorsebrewing.com/event/stern-pinball-tournament-10/
LOCATION:Evil Horse Brewing Co.\, 1338 Main Street\, CRETE\, IL\, 60417
END:VEVENT
BEGIN:VEVENT
DTSTART;TZID=America/Chicago:20250424T183000
DTEND;TZID=America/Chicago:20250424T210000
DTSTAMP:20260425T072054
CREATED:20250108T180100Z
LAST-MODIFIED:20250324T172652Z
UID:5733-1745519400-1745528400@evilhorsebrewing.com
SUMMARY:STERN Pinball Tournament
DESCRIPTION:
URL:https://evilhorsebrewing.com/event/stern-pinball-tournament-9/
LOCATION:Evil Horse Brewing Co.\, 1338 Main Street\, CRETE\, IL\, 60417
END:VEVENT
BEGIN:VEVENT
DTSTART;VALUE=DATE:20250424
DTEND;VALUE=DATE:20250425
DTSTAMP:20260425T072054
CREATED:20250304T180627Z
LAST-MODIFIED:20250304T180627Z
UID:6180-1745452800-1745539199@evilhorsebrewing.com
SUMMARY:$5 BEER IT FORWARD
DESCRIPTION:
URL:https://evilhorsebrewing.com/event/5-beer-it-forward-16/
LOCATION:Evil Horse Brewing Co.\, 1338 Main Street\, CRETE\, IL\, 60417
END:VEVENT
BEGIN:VEVENT
DTSTART;VALUE=DATE:20250424
DTEND;VALUE=DATE:20250425
DTSTAMP:20260425T072054
CREATED:20250304T180128Z
LAST-MODIFIED:20250304T180128Z
UID:6173-1745452800-1745539199@evilhorsebrewing.com
SUMMARY:$8 Sampler Flights
DESCRIPTION:
URL:https://evilhorsebrewing.com/event/8-sampler-flights-52/
LOCATION:Evil Horse Brewing Co.\, 1338 Main Street\, CRETE\, IL\, 60417
END:VEVENT
BEGIN:VEVENT
DTSTART;VALUE=DATE:20250423
DTEND;VALUE=DATE:20250424
DTSTAMP:20260425T072054
CREATED:20250303T190756Z
LAST-MODIFIED:20250303T190756Z
UID:6135-1745366400-1745452799@evilhorsebrewing.com
SUMMARY:$4 POURS
DESCRIPTION:
URL:https://evilhorsebrewing.com/event/4-pours-16/
LOCATION:Evil Horse Brewing Co.\, 1338 Main Street\, CRETE\, IL\, 60417
END:VEVENT
BEGIN:VEVENT
DTSTART;VALUE=DATE:20250423
DTEND;VALUE=DATE:20250424
DTSTAMP:20260425T072054
CREATED:20250303T190436Z
LAST-MODIFIED:20250303T190436Z
UID:6127-1745366400-1745452799@evilhorsebrewing.com
SUMMARY:$6 Aperol Spritz
DESCRIPTION:
URL:https://evilhorsebrewing.com/event/6-aperol-spritz-16/
LOCATION:Evil Horse Brewing Co.\, 1338 Main Street\, CRETE\, IL\, 60417
END:VEVENT
BEGIN:VEVENT
DTSTART;VALUE=DATE:20250422
DTEND;VALUE=DATE:20250423
DTSTAMP:20260425T072054
CREATED:20250228T234122Z
LAST-MODIFIED:20250228T234122Z
UID:6118-1745280000-1745366399@evilhorsebrewing.com
SUMMARY:TACO Tuesday
DESCRIPTION:MARGARITA Special\, $1 off Mexican Lager\, Meatz Big Mama Food Truck Taco Dinner Special
URL:https://evilhorsebrewing.com/event/taco-tuesday-16/
LOCATION:Evil Horse Brewing Co.\, 1338 Main Street\, CRETE\, IL\, 60417
END:VEVENT
BEGIN:VEVENT
DTSTART;VALUE=DATE:20250421
DTEND;VALUE=DATE:20250422
DTSTAMP:20260425T072054
CREATED:20250227T183231Z
LAST-MODIFIED:20250227T183231Z
UID:6084-1745193600-1745279999@evilhorsebrewing.com
SUMMARY:BEER OF THE WEEK Tapping
DESCRIPTION:
URL:https://evilhorsebrewing.com/event/beer-of-the-week-tapping-15/
LOCATION:Evil Horse Brewing Co.\, 1338 Main Street\, CRETE\, IL\, 60417
END:VEVENT
BEGIN:VEVENT
DTSTART;VALUE=DATE:20250421
DTEND;VALUE=DATE:20250422
DTSTAMP:20260425T072054
CREATED:20250227T181002Z
LAST-MODIFIED:20250227T181002Z
UID:6012-1745193600-1745279999@evilhorsebrewing.com
SUMMARY:$1 off drafts\, ciders & seltzers
DESCRIPTION:
URL:https://evilhorsebrewing.com/event/1-off-drafts-ciders-seltzers-124/
LOCATION:Evil Horse Brewing Co.\, 1338 Main Street\, CRETE\, IL\, 60417
END:VEVENT
BEGIN:VEVENT
DTSTART;TZID=America/Chicago:20250420T130000
DTEND;TZID=America/Chicago:20250420T160000
DTSTAMP:20260425T072054
CREATED:20250303T191536Z
LAST-MODIFIED:20250303T191536Z
UID:6153-1745154000-1745164800@evilhorsebrewing.com
SUMMARY:$5 BLIND DRAW CORNHOLE
DESCRIPTION:
URL:https://evilhorsebrewing.com/event/5-blind-draw-cornhole-8/
LOCATION:Evil Horse Brewing Co.\, 1338 Main Street\, CRETE\, IL\, 60417
END:VEVENT
BEGIN:VEVENT
DTSTART;VALUE=DATE:20250420
DTEND;VALUE=DATE:20250421
DTSTAMP:20260425T072054
CREATED:20250227T181641Z
LAST-MODIFIED:20250227T181641Z
UID:6034-1745107200-1745193599@evilhorsebrewing.com
SUMMARY:$1 off drafts\, ciders & seltzers
DESCRIPTION:
URL:https://evilhorsebrewing.com/event/1-off-drafts-ciders-seltzers-135/
LOCATION:Evil Horse Brewing Co.\, 1338 Main Street\, CRETE\, IL\, 60417
END:VEVENT
BEGIN:VEVENT
DTSTART;VALUE=DATE:20250419
DTEND;VALUE=DATE:20250420
DTSTAMP:20260425T072054
CREATED:20250227T174740Z
LAST-MODIFIED:20250227T174740Z
UID:5987-1745020800-1745107199@evilhorsebrewing.com
SUMMARY:To Go Specials
DESCRIPTION:$2 off 4 pack of 16oz cans \n$2 off 6 pack of 12oz cans \n$5 off mixed 12 pack \n$10 pack of the week
URL:https://evilhorsebrewing.com/event/to-go-specials-15/
LOCATION:Evil Horse Brewing Co.\, 1338 Main Street\, CRETE\, IL\, 60417
END:VEVENT
BEGIN:VEVENT
DTSTART;TZID=America/Chicago:20250418T150000
DTEND;TZID=America/Chicago:20250418T180000
DTSTAMP:20260425T072054
CREATED:20250304T181212Z
LAST-MODIFIED:20250304T181212Z
UID:6194-1744988400-1744999200@evilhorsebrewing.com
SUMMARY:HAPPY HOUR
DESCRIPTION:$1 OFF PINTS – $1 OFF CANS – $1 OFF WINE
URL:https://evilhorsebrewing.com/event/happy-hour-57/
LOCATION:Evil Horse Brewing Co.\, 1338 Main Street\, CRETE\, IL\, 60417
END:VEVENT
BEGIN:VEVENT
DTSTART;TZID=America/Chicago:20250417T190000
DTEND;TZID=America/Chicago:20250417T210000
DTSTAMP:20260425T072054
CREATED:20250303T193229Z
LAST-MODIFIED:20250303T193229Z
UID:6157-1744916400-1744923600@evilhorsebrewing.com
SUMMARY:BINGO Night
DESCRIPTION:Free to play\, fun to win!
URL:https://evilhorsebrewing.com/event/bingo-night-24/
LOCATION:Evil Horse Brewing Co.\, 1338 Main Street\, CRETE\, IL\, 60417
END:VEVENT
BEGIN:VEVENT
DTSTART;VALUE=DATE:20250417
DTEND;VALUE=DATE:20250418
DTSTAMP:20260425T072054
CREATED:20250304T180603Z
LAST-MODIFIED:20250304T180603Z
UID:6178-1744848000-1744934399@evilhorsebrewing.com
SUMMARY:$5 BEER IT FORWARD
DESCRIPTION:
URL:https://evilhorsebrewing.com/event/5-beer-it-forward-15/
LOCATION:Evil Horse Brewing Co.\, 1338 Main Street\, CRETE\, IL\, 60417
END:VEVENT
BEGIN:VEVENT
DTSTART;VALUE=DATE:20250417
DTEND;VALUE=DATE:20250418
DTSTAMP:20260425T072054
CREATED:20250304T180100Z
LAST-MODIFIED:20250304T180100Z
UID:6171-1744848000-1744934399@evilhorsebrewing.com
SUMMARY:$8 Sampler Flights
DESCRIPTION:
URL:https://evilhorsebrewing.com/event/8-sampler-flights-51/
LOCATION:Evil Horse Brewing Co.\, 1338 Main Street\, CRETE\, IL\, 60417
END:VEVENT
BEGIN:VEVENT
DTSTART;VALUE=DATE:20250416
DTEND;VALUE=DATE:20250417
DTSTAMP:20260425T072054
CREATED:20250303T190732Z
LAST-MODIFIED:20250303T190732Z
UID:6133-1744761600-1744847999@evilhorsebrewing.com
SUMMARY:$4 POURS
DESCRIPTION:
URL:https://evilhorsebrewing.com/event/4-pours-15/
LOCATION:Evil Horse Brewing Co.\, 1338 Main Street\, CRETE\, IL\, 60417
END:VEVENT
BEGIN:VEVENT
DTSTART;VALUE=DATE:20250416
DTEND;VALUE=DATE:20250417
DTSTAMP:20260425T072054
CREATED:20250303T190412Z
LAST-MODIFIED:20250303T190412Z
UID:6125-1744761600-1744847999@evilhorsebrewing.com
SUMMARY:$6 Aperol Spritz
DESCRIPTION:
URL:https://evilhorsebrewing.com/event/6-aperol-spritz-15/
LOCATION:Evil Horse Brewing Co.\, 1338 Main Street\, CRETE\, IL\, 60417
END:VEVENT
BEGIN:VEVENT
DTSTART;VALUE=DATE:20250415
DTEND;VALUE=DATE:20250416
DTSTAMP:20260425T072054
CREATED:20250228T234039Z
LAST-MODIFIED:20250228T234039Z
UID:6116-1744675200-1744761599@evilhorsebrewing.com
SUMMARY:TACO Tuesday
DESCRIPTION:MARGARITA Special\, $1 off Mexican Lager\, Meatz Big Mama Food Truck Taco Dinner Special
URL:https://evilhorsebrewing.com/event/taco-tuesday-15/
LOCATION:Evil Horse Brewing Co.\, 1338 Main Street\, CRETE\, IL\, 60417
END:VEVENT
BEGIN:VEVENT
DTSTART;VALUE=DATE:20250414
DTEND;VALUE=DATE:20250415
DTSTAMP:20260425T072054
CREATED:20250227T183204Z
LAST-MODIFIED:20250227T183204Z
UID:6082-1744588800-1744675199@evilhorsebrewing.com
SUMMARY:BEER OF THE WEEK Tapping
DESCRIPTION:
URL:https://evilhorsebrewing.com/event/beer-of-the-week-tapping-14/
LOCATION:Evil Horse Brewing Co.\, 1338 Main Street\, CRETE\, IL\, 60417
END:VEVENT
BEGIN:VEVENT
DTSTART;VALUE=DATE:20250414
DTEND;VALUE=DATE:20250415
DTSTAMP:20260425T072054
CREATED:20250227T180930Z
LAST-MODIFIED:20250227T180930Z
UID:6010-1744588800-1744675199@evilhorsebrewing.com
SUMMARY:$1 off drafts\, ciders & seltzers
DESCRIPTION:
URL:https://evilhorsebrewing.com/event/1-off-drafts-ciders-seltzers-123/
LOCATION:Evil Horse Brewing Co.\, 1338 Main Street\, CRETE\, IL\, 60417
END:VEVENT
END:VCALENDAR