BEGIN:VCALENDAR
VERSION:2.0
PRODID:-//Evil Horse Brewing Co. - ECPv5.14.2.1//NONSGML v1.0//EN
CALSCALE:GREGORIAN
METHOD:PUBLISH
X-WR-CALNAME:Evil Horse Brewing Co.
X-ORIGINAL-URL:https://evilhorsebrewing.com
X-WR-CALDESC:Events for Evil Horse Brewing Co.
REFRESH-INTERVAL;VALUE=DURATION:PT1H
X-Robots-Tag:noindex
X-PUBLISHED-TTL:PT1H
BEGIN:VTIMEZONE
TZID:America/Chicago
BEGIN:DAYLIGHT
TZOFFSETFROM:-0600
TZOFFSETTO:-0500
TZNAME:CDT
DTSTART:20250309T080000
END:DAYLIGHT
BEGIN:STANDARD
TZOFFSETFROM:-0500
TZOFFSETTO:-0600
TZNAME:CST
DTSTART:20251102T070000
END:STANDARD
END:VTIMEZONE
BEGIN:VEVENT
DTSTART;TZID=America/Chicago:20250510T180000
DTEND;TZID=America/Chicago:20250510T210000
DTSTAMP:20260425T054501
CREATED:20250426T172526Z
LAST-MODIFIED:20250426T172526Z
UID:6298-1746900000-1746910800@evilhorsebrewing.com
SUMMARY:Blind Draw Cornhole
DESCRIPTION:Come play with us! Just $10 to enter\, and winners will be rewarded! Bring a friend…or don’t! Just come play!
URL:https://evilhorsebrewing.com/event/blind-draw-cornhole/
LOCATION:Evil Horse Brewing Co.\, 1338 Main Street\, CRETE\, IL\, 60417
END:VEVENT
BEGIN:VEVENT
DTSTART;VALUE=DATE:20250510
DTEND;VALUE=DATE:20250511
DTSTAMP:20260425T054501
CREATED:20250227T175059Z
LAST-MODIFIED:20250227T175059Z
UID:5993-1746835200-1746921599@evilhorsebrewing.com
SUMMARY:To Go Specials
DESCRIPTION:$2 off 4 pack of 16oz cans \n$2 off 6 pack of 12oz cans \n$5 off mixed 12 pack \n$10 pack of the week
URL:https://evilhorsebrewing.com/event/to-go-specials-18/
LOCATION:Evil Horse Brewing Co.\, 1338 Main Street\, CRETE\, IL\, 60417
END:VEVENT
BEGIN:VEVENT
DTSTART;TZID=America/Chicago:20250509T183000
DTEND;TZID=America/Chicago:20250509T203000
DTSTAMP:20260425T054501
CREATED:20250510T014805Z
LAST-MODIFIED:20250510T014805Z
UID:6315-1746815400-1746822600@evilhorsebrewing.com
SUMMARY:Stern Pinball Tournament
DESCRIPTION:16 players compete for prizes!
URL:https://evilhorsebrewing.com/event/stern-pinball-tournament-11/
LOCATION:Evil Horse Brewing Co.\, 1338 Main Street\, CRETE\, IL\, 60417
END:VEVENT
BEGIN:VEVENT
DTSTART;TZID=America/Chicago:20250509T150000
DTEND;TZID=America/Chicago:20250509T180000
DTSTAMP:20260425T054501
CREATED:20250304T181409Z
LAST-MODIFIED:20250304T181409Z
UID:6200-1746802800-1746813600@evilhorsebrewing.com
SUMMARY:HAPPY HOUR
DESCRIPTION:$1 OFF PINTS – $1 OFF CANS – $1 OFF WINE
URL:https://evilhorsebrewing.com/event/happy-hour-60/
LOCATION:Evil Horse Brewing Co.\, 1338 Main Street\, CRETE\, IL\, 60417
END:VEVENT
BEGIN:VEVENT
DTSTART;TZID=America/Chicago:20250508T190000
DTEND;TZID=America/Chicago:20250508T210000
DTSTAMP:20260425T054501
CREATED:20250510T014604Z
LAST-MODIFIED:20250510T014604Z
UID:6311-1746730800-1746738000@evilhorsebrewing.com
SUMMARY:TRIVIA Night with the Crete Library
DESCRIPTION:Free to play\, fun to win!
URL:https://evilhorsebrewing.com/event/trivia-night-with-the-crete-library-21/
LOCATION:Evil Horse Brewing Co.\, 1338 Main Street\, CRETE\, IL\, 60417
END:VEVENT
BEGIN:VEVENT
DTSTART;VALUE=DATE:20250508
DTEND;VALUE=DATE:20250509
DTSTAMP:20260425T054501
CREATED:20250304T180730Z
LAST-MODIFIED:20250304T180730Z
UID:6184-1746662400-1746748799@evilhorsebrewing.com
SUMMARY:$5 BEER IT FORWARD
DESCRIPTION:
URL:https://evilhorsebrewing.com/event/5-beer-it-forward-18/
LOCATION:Evil Horse Brewing Co.\, 1338 Main Street\, CRETE\, IL\, 60417
END:VEVENT
BEGIN:VEVENT
DTSTART;VALUE=DATE:20250508
DTEND;VALUE=DATE:20250509
DTSTAMP:20260425T054501
CREATED:20250108T184423Z
LAST-MODIFIED:20250304T180246Z
UID:5861-1746662400-1746748799@evilhorsebrewing.com
SUMMARY:$8 Sampler Flights
DESCRIPTION:
URL:https://evilhorsebrewing.com/event/8-sampler-flights-43/
LOCATION:Evil Horse Brewing Co.\, 1338 Main Street\, CRETE\, IL\, 60417
END:VEVENT
BEGIN:VEVENT
DTSTART;VALUE=DATE:20250507
DTEND;VALUE=DATE:20250508
DTSTAMP:20260425T054501
CREATED:20250324T173824Z
LAST-MODIFIED:20250324T173824Z
UID:6240-1746576000-1746662399@evilhorsebrewing.com
SUMMARY:$4 POURS
DESCRIPTION:
URL:https://evilhorsebrewing.com/event/4-pours-18/
LOCATION:Evil Horse Brewing Co.\, 1338 Main Street\, CRETE\, IL\, 60417
END:VEVENT
BEGIN:VEVENT
DTSTART;VALUE=DATE:20250507
DTEND;VALUE=DATE:20250508
DTSTAMP:20260425T054501
CREATED:20250324T173746Z
LAST-MODIFIED:20250324T173746Z
UID:6238-1746576000-1746662399@evilhorsebrewing.com
SUMMARY:$6 Aperol Spritz
DESCRIPTION:
URL:https://evilhorsebrewing.com/event/6-aperol-spritz-21/
LOCATION:Evil Horse Brewing Co.\, 1338 Main Street\, CRETE\, IL\, 60417
END:VEVENT
BEGIN:VEVENT
DTSTART;VALUE=DATE:20250506
DTEND;VALUE=DATE:20250507
DTSTAMP:20260425T054501
CREATED:20250324T173254Z
LAST-MODIFIED:20250324T173254Z
UID:6224-1746489600-1746575999@evilhorsebrewing.com
SUMMARY:TACO Tuesday
DESCRIPTION:MARGARITA Special\, $1 off Mexican Lager\, Meatz Big Mama Food Truck Taco Dinner Special
URL:https://evilhorsebrewing.com/event/taco-tuesday-18/
LOCATION:Evil Horse Brewing Co.\, 1338 Main Street\, CRETE\, IL\, 60417
END:VEVENT
BEGIN:VEVENT
DTSTART;VALUE=DATE:20250505
DTEND;VALUE=DATE:20250506
DTSTAMP:20260425T054501
CREATED:20250108T172931Z
LAST-MODIFIED:20250227T181108Z
UID:5659-1746403200-1746489599@evilhorsebrewing.com
SUMMARY:$1 off drafts\, ciders & seltzers
DESCRIPTION:
URL:https://evilhorsebrewing.com/event/1-off-drafts-ciders-seltzers-106/
LOCATION:Evil Horse Brewing Co.\, 1338 Main Street\, CRETE\, IL\, 60417
END:VEVENT
BEGIN:VEVENT
DTSTART;VALUE=DATE:20250505
DTEND;VALUE=DATE:20250506
DTSTAMP:20260425T054501
CREATED:20250227T183346Z
LAST-MODIFIED:20250227T183346Z
UID:6088-1746403200-1746489599@evilhorsebrewing.com
SUMMARY:BEER OF THE WEEK Tapping
DESCRIPTION:
URL:https://evilhorsebrewing.com/event/beer-of-the-week-tapping-17/
LOCATION:Evil Horse Brewing Co.\, 1338 Main Street\, CRETE\, IL\, 60417
END:VEVENT
BEGIN:VEVENT
DTSTART;VALUE=DATE:20250504
DTEND;VALUE=DATE:20250505
DTSTAMP:20260425T054501
CREATED:20250227T181740Z
LAST-MODIFIED:20250227T181740Z
UID:6038-1746316800-1746403199@evilhorsebrewing.com
SUMMARY:$1 off drafts\, ciders & seltzers
DESCRIPTION:
URL:https://evilhorsebrewing.com/event/1-off-drafts-ciders-seltzers-137/
LOCATION:Evil Horse Brewing Co.\, 1338 Main Street\, CRETE\, IL\, 60417
END:VEVENT
BEGIN:VEVENT
DTSTART;VALUE=DATE:20250504
DTEND;VALUE=DATE:20250505
DTSTAMP:20260425T054501
CREATED:20250227T180552Z
LAST-MODIFIED:20250227T180655Z
UID:6003-1746316800-1746403199@evilhorsebrewing.com
SUMMARY:Tap Take Over with Nik & Ivy Brewing
DESCRIPTION:$8 Sampler Flights \n$1 off drafts
URL:https://evilhorsebrewing.com/event/tap-take-over-with-nik-ivy-brewing/
LOCATION:Evil Horse Brewing Co.\, 1338 Main Street\, CRETE\, IL\, 60417
END:VEVENT
BEGIN:VEVENT
DTSTART;VALUE=DATE:20250503
DTEND;VALUE=DATE:20250504
DTSTAMP:20260425T054501
CREATED:20250227T175027Z
LAST-MODIFIED:20250227T175027Z
UID:5991-1746230400-1746316799@evilhorsebrewing.com
SUMMARY:To Go Specials
DESCRIPTION:$2 off 4 pack of 16oz cans \n$2 off 6 pack of 12oz cans \n$5 off mixed 12 pack \n$10 pack of the week
URL:https://evilhorsebrewing.com/event/to-go-specials-17/
LOCATION:Evil Horse Brewing Co.\, 1338 Main Street\, CRETE\, IL\, 60417
END:VEVENT
BEGIN:VEVENT
DTSTART;TZID=America/Chicago:20250502T190000
DTEND;TZID=America/Chicago:20250502T220000
DTSTAMP:20260425T054501
CREATED:20250108T175431Z
LAST-MODIFIED:20250108T175431Z
UID:5715-1746212400-1746223200@evilhorsebrewing.com
SUMMARY:Live Music with Ted Jones Piano Man
DESCRIPTION:
URL:https://evilhorsebrewing.com/event/live-music-with-ted-jones-piano-man-23/
LOCATION:Evil Horse Brewing Co.\, 1338 Main Street\, CRETE\, IL\, 60417
END:VEVENT
BEGIN:VEVENT
DTSTART;TZID=America/Chicago:20250502T173000
DTEND;TZID=America/Chicago:20250502T193000
DTSTAMP:20260425T054501
CREATED:20250304T181910Z
LAST-MODIFIED:20250304T181910Z
UID:6208-1746207000-1746214200@evilhorsebrewing.com
SUMMARY:CHARCUTERIE BOARD WORKSHOP
DESCRIPTION:$45 – Must sign up ahead with the bartender.
URL:https://evilhorsebrewing.com/event/charcuterie-board-workshop-2/
LOCATION:Evil Horse Brewing Co.\, 1338 Main Street\, CRETE\, IL\, 60417
END:VEVENT
BEGIN:VEVENT
DTSTART;TZID=America/Chicago:20250502T150000
DTEND;TZID=America/Chicago:20250502T180000
DTSTAMP:20260425T054501
CREATED:20250304T181329Z
LAST-MODIFIED:20250304T181329Z
UID:6198-1746198000-1746208800@evilhorsebrewing.com
SUMMARY:HAPPY HOUR
DESCRIPTION:$1 OFF PINTS – $1 OFF CANS – $1 OFF WINE
URL:https://evilhorsebrewing.com/event/happy-hour-59/
LOCATION:Evil Horse Brewing Co.\, 1338 Main Street\, CRETE\, IL\, 60417
END:VEVENT
BEGIN:VEVENT
DTSTART;VALUE=DATE:20250501
DTEND;VALUE=DATE:20250502
DTSTAMP:20260425T054501
CREATED:20250304T180659Z
LAST-MODIFIED:20250304T180659Z
UID:6182-1746057600-1746143999@evilhorsebrewing.com
SUMMARY:$5 BEER IT FORWARD
DESCRIPTION:
URL:https://evilhorsebrewing.com/event/5-beer-it-forward-17/
LOCATION:Evil Horse Brewing Co.\, 1338 Main Street\, CRETE\, IL\, 60417
END:VEVENT
BEGIN:VEVENT
DTSTART;VALUE=DATE:20250501
DTEND;VALUE=DATE:20250502
DTSTAMP:20260425T054501
CREATED:20250304T180012Z
LAST-MODIFIED:20250304T180216Z
UID:6167-1746057600-1746143999@evilhorsebrewing.com
SUMMARY:$8 Sampler Flights
DESCRIPTION:
URL:https://evilhorsebrewing.com/event/8-sampler-flights-49/
LOCATION:Evil Horse Brewing Co.\, 1338 Main Street\, CRETE\, IL\, 60417
END:VEVENT
BEGIN:VEVENT
DTSTART;VALUE=DATE:20250430
DTEND;VALUE=DATE:20250501
DTSTAMP:20260425T054501
CREATED:20250303T190823Z
LAST-MODIFIED:20250303T190823Z
UID:6137-1745971200-1746057599@evilhorsebrewing.com
SUMMARY:$4 POURS
DESCRIPTION:
URL:https://evilhorsebrewing.com/event/4-pours-17/
LOCATION:Evil Horse Brewing Co.\, 1338 Main Street\, CRETE\, IL\, 60417
END:VEVENT
BEGIN:VEVENT
DTSTART;VALUE=DATE:20250430
DTEND;VALUE=DATE:20250501
DTSTAMP:20260425T054501
CREATED:20250303T190618Z
LAST-MODIFIED:20250303T190618Z
UID:6129-1745971200-1746057599@evilhorsebrewing.com
SUMMARY:$6 Aperol Spritz
DESCRIPTION:
URL:https://evilhorsebrewing.com/event/6-aperol-spritz-17/
LOCATION:Evil Horse Brewing Co.\, 1338 Main Street\, CRETE\, IL\, 60417
END:VEVENT
BEGIN:VEVENT
DTSTART;VALUE=DATE:20250429
DTEND;VALUE=DATE:20250430
DTSTAMP:20260425T054501
CREATED:20250324T173052Z
LAST-MODIFIED:20250324T173124Z
UID:6222-1745884800-1745971199@evilhorsebrewing.com
SUMMARY:TACO Tuesday
DESCRIPTION:MARGARITA Special\, $1 off Mexican Lager\, Meatz Big Mama Food Truck Taco Dinner Special
URL:https://evilhorsebrewing.com/event/taco-tuesday-17/
LOCATION:Evil Horse Brewing Co.\, 1338 Main Street\, CRETE\, IL\, 60417
END:VEVENT
BEGIN:VEVENT
DTSTART;VALUE=DATE:20250428
DTEND;VALUE=DATE:20250429
DTSTAMP:20260425T054501
CREATED:20250227T183258Z
LAST-MODIFIED:20250227T183258Z
UID:6086-1745798400-1745884799@evilhorsebrewing.com
SUMMARY:BEER OF THE WEEK Tapping
DESCRIPTION:
URL:https://evilhorsebrewing.com/event/beer-of-the-week-tapping-16/
LOCATION:Evil Horse Brewing Co.\, 1338 Main Street\, CRETE\, IL\, 60417
END:VEVENT
BEGIN:VEVENT
DTSTART;VALUE=DATE:20250428
DTEND;VALUE=DATE:20250429
DTSTAMP:20260425T054501
CREATED:20250227T181033Z
LAST-MODIFIED:20250227T181033Z
UID:6014-1745798400-1745884799@evilhorsebrewing.com
SUMMARY:$1 off drafts\, ciders & seltzers
DESCRIPTION:
URL:https://evilhorsebrewing.com/event/1-off-drafts-ciders-seltzers-125/
LOCATION:Evil Horse Brewing Co.\, 1338 Main Street\, CRETE\, IL\, 60417
END:VEVENT
BEGIN:VEVENT
DTSTART;TZID=America/Chicago:20250427T130000
DTEND;TZID=America/Chicago:20250427T160000
DTSTAMP:20260425T054501
CREATED:20250303T193105Z
LAST-MODIFIED:20250303T193105Z
UID:6155-1745758800-1745769600@evilhorsebrewing.com
SUMMARY:$5 BLIND DRAW CORNHOLE
DESCRIPTION:
URL:https://evilhorsebrewing.com/event/5-blind-draw-cornhole-9/
LOCATION:Evil Horse Brewing Co.\, 1338 Main Street\, CRETE\, IL\, 60417
END:VEVENT
BEGIN:VEVENT
DTSTART;VALUE=DATE:20250427
DTEND;VALUE=DATE:20250428
DTSTAMP:20260425T054501
CREATED:20250227T181710Z
LAST-MODIFIED:20250227T181710Z
UID:6036-1745712000-1745798399@evilhorsebrewing.com
SUMMARY:$1 off drafts\, ciders & seltzers
DESCRIPTION:
URL:https://evilhorsebrewing.com/event/1-off-drafts-ciders-seltzers-136/
LOCATION:Evil Horse Brewing Co.\, 1338 Main Street\, CRETE\, IL\, 60417
END:VEVENT
BEGIN:VEVENT
DTSTART;VALUE=DATE:20250426
DTEND;VALUE=DATE:20250427
DTSTAMP:20260425T054501
CREATED:20250227T174825Z
LAST-MODIFIED:20250227T174825Z
UID:5989-1745625600-1745711999@evilhorsebrewing.com
SUMMARY:To Go Specials
DESCRIPTION:$2 off 4 pack of 16oz cans \n$2 off 6 pack of 12oz cans \n$5 off mixed 12 pack \n$10 pack of the week
URL:https://evilhorsebrewing.com/event/to-go-specials-16/
LOCATION:Evil Horse Brewing Co.\, 1338 Main Street\, CRETE\, IL\, 60417
END:VEVENT
BEGIN:VEVENT
DTSTART;TZID=America/Chicago:20250425T150000
DTEND;TZID=America/Chicago:20250425T180000
DTSTAMP:20260425T054501
CREATED:20250304T181245Z
LAST-MODIFIED:20250304T181245Z
UID:6196-1745593200-1745604000@evilhorsebrewing.com
SUMMARY:HAPPY HOUR
DESCRIPTION:$1 OFF PINTS – $1 OFF CANS – $1 OFF WINE
URL:https://evilhorsebrewing.com/event/happy-hour-58/
LOCATION:Evil Horse Brewing Co.\, 1338 Main Street\, CRETE\, IL\, 60417
END:VEVENT
BEGIN:VEVENT
DTSTART;TZID=America/Chicago:20250424T183000
DTEND;TZID=America/Chicago:20250424T210000
DTSTAMP:20260425T054501
CREATED:20250303T193902Z
LAST-MODIFIED:20250303T193902Z
UID:6159-1745519400-1745528400@evilhorsebrewing.com
SUMMARY:STERN PINBALL TOURNAMENT
DESCRIPTION:
URL:https://evilhorsebrewing.com/event/stern-pinball-tournament-10/
LOCATION:Evil Horse Brewing Co.\, 1338 Main Street\, CRETE\, IL\, 60417
END:VEVENT
END:VCALENDAR