BEGIN:VCALENDAR
VERSION:2.0
PRODID:-//Evil Horse Brewing Co. - ECPv5.14.2.1//NONSGML v1.0//EN
CALSCALE:GREGORIAN
METHOD:PUBLISH
X-WR-CALNAME:Evil Horse Brewing Co.
X-ORIGINAL-URL:https://evilhorsebrewing.com
X-WR-CALDESC:Events for Evil Horse Brewing Co.
REFRESH-INTERVAL;VALUE=DURATION:PT1H
X-Robots-Tag:noindex
X-PUBLISHED-TTL:PT1H
BEGIN:VTIMEZONE
TZID:America/Chicago
BEGIN:DAYLIGHT
TZOFFSETFROM:-0600
TZOFFSETTO:-0500
TZNAME:CDT
DTSTART:20250309T080000
END:DAYLIGHT
BEGIN:STANDARD
TZOFFSETFROM:-0500
TZOFFSETTO:-0600
TZNAME:CST
DTSTART:20251102T070000
END:STANDARD
END:VTIMEZONE
BEGIN:VEVENT
DTSTART;VALUE=DATE:20250528
DTEND;VALUE=DATE:20250529
DTSTAMP:20260425T080342
CREATED:20250324T173706Z
LAST-MODIFIED:20250324T173706Z
UID:6236-1748390400-1748476799@evilhorsebrewing.com
SUMMARY:$6 Aperol Spritz
DESCRIPTION:
URL:https://evilhorsebrewing.com/event/6-aperol-spritz-20/
LOCATION:IL
END:VEVENT
BEGIN:VEVENT
DTSTART;VALUE=DATE:20250527
DTEND;VALUE=DATE:20250528
DTSTAMP:20260425T080342
CREATED:20250324T173459Z
LAST-MODIFIED:20250324T173459Z
UID:6230-1748304000-1748390399@evilhorsebrewing.com
SUMMARY:TACO Tuesday
DESCRIPTION:MARGARITA Special\, $1 off Mexican Lager\, Meatz Big Mama Food Truck Taco Dinner Special
URL:https://evilhorsebrewing.com/event/taco-tuesday-21/
LOCATION:Evil Horse Brewing Co.\, 1338 Main Street\, CRETE\, IL\, 60417
END:VEVENT
BEGIN:VEVENT
DTSTART;VALUE=DATE:20250526
DTEND;VALUE=DATE:20250527
DTSTAMP:20260425T080342
CREATED:20250227T183542Z
LAST-MODIFIED:20250227T183542Z
UID:6094-1748217600-1748303999@evilhorsebrewing.com
SUMMARY:BEER OF THE WEEK Tapping
DESCRIPTION:
URL:https://evilhorsebrewing.com/event/beer-of-the-week-tapping-20/
LOCATION:Evil Horse Brewing Co.\, 1338 Main Street\, CRETE\, IL\, 60417
END:VEVENT
BEGIN:VEVENT
DTSTART;VALUE=DATE:20250526
DTEND;VALUE=DATE:20250527
DTSTAMP:20260425T080342
CREATED:20250227T181235Z
LAST-MODIFIED:20250227T181235Z
UID:6020-1748217600-1748303999@evilhorsebrewing.com
SUMMARY:$1 off drafts\, ciders & seltzers
DESCRIPTION:
URL:https://evilhorsebrewing.com/event/1-off-drafts-ciders-seltzers-128/
LOCATION:Evil Horse Brewing Co.\, 1338 Main Street\, CRETE\, IL\, 60417
END:VEVENT
BEGIN:VEVENT
DTSTART;VALUE=DATE:20250525
DTEND;VALUE=DATE:20250526
DTSTAMP:20260425T080342
CREATED:20250227T182004Z
LAST-MODIFIED:20250227T182004Z
UID:6048-1748131200-1748217599@evilhorsebrewing.com
SUMMARY:$1 off drafts\, ciders & seltzers
DESCRIPTION:
URL:https://evilhorsebrewing.com/event/1-off-drafts-ciders-seltzers-142/
LOCATION:Evil Horse Brewing Co.\, 1338 Main Street\, CRETE\, IL\, 60417
END:VEVENT
BEGIN:VEVENT
DTSTART;TZID=America/Chicago:20250524T180000
DTEND;TZID=America/Chicago:20250524T210000
DTSTAMP:20260425T080342
CREATED:20250426T172744Z
LAST-MODIFIED:20250426T172744Z
UID:6302-1748109600-1748120400@evilhorsebrewing.com
SUMMARY:Blind Draw Cornhole
DESCRIPTION:Come play with us! Just $10 to enter\, and winners will be rewarded! Bring a friend…or don’t! Just come play!  Find us on Scorholio.com
URL:https://evilhorsebrewing.com/event/blind-draw-cornhole-3/
LOCATION:Evil Horse Brewing Co.\, 1338 Main Street\, CRETE\, IL\, 60417
END:VEVENT
BEGIN:VEVENT
DTSTART;VALUE=DATE:20250524
DTEND;VALUE=DATE:20250525
DTSTAMP:20260425T080342
CREATED:20250227T180249Z
LAST-MODIFIED:20250227T180249Z
UID:5999-1748044800-1748131199@evilhorsebrewing.com
SUMMARY:To Go Specials
DESCRIPTION:$2 off 4 pack of 16oz cans \n$2 off 6 pack of 12oz cans \n$5 off mixed 12 pack \n$10 pack of the week
URL:https://evilhorsebrewing.com/event/to-go-specials-21/
LOCATION:Evil Horse Brewing Co.\, 1338 Main Street\, CRETE\, IL\, 60417
END:VEVENT
BEGIN:VEVENT
DTSTART;TZID=America/Chicago:20250523T150000
DTEND;TZID=America/Chicago:20250523T180000
DTSTAMP:20260425T080342
CREATED:20250304T181726Z
LAST-MODIFIED:20250304T181726Z
UID:6206-1748012400-1748023200@evilhorsebrewing.com
SUMMARY:HAPPY HOUR
DESCRIPTION:$1 OFF PINTS – $1 OFF CANS – $1 OFF WINE
URL:https://evilhorsebrewing.com/event/happy-hour-63/
LOCATION:Evil Horse Brewing Co.\, 1338 Main Street\, CRETE\, IL\, 60417
END:VEVENT
BEGIN:VEVENT
DTSTART;VALUE=DATE:20250522
DTEND;VALUE=DATE:20250523
DTSTAMP:20260425T080342
CREATED:20250304T180916Z
LAST-MODIFIED:20250304T180916Z
UID:6190-1747872000-1747958399@evilhorsebrewing.com
SUMMARY:$5 BEER IT FORWARD
DESCRIPTION:
URL:https://evilhorsebrewing.com/event/5-beer-it-forward-21/
LOCATION:Evil Horse Brewing Co.\, 1338 Main Street\, CRETE\, IL\, 60417
END:VEVENT
BEGIN:VEVENT
DTSTART;VALUE=DATE:20250522
DTEND;VALUE=DATE:20250523
DTSTAMP:20260425T080342
CREATED:20250108T184520Z
LAST-MODIFIED:20250304T180355Z
UID:5865-1747872000-1747958399@evilhorsebrewing.com
SUMMARY:$8 Sampler Flights
DESCRIPTION:
URL:https://evilhorsebrewing.com/event/8-sampler-flights-45/
LOCATION:Evil Horse Brewing Co.\, 1338 Main Street\, CRETE\, IL\, 60417
END:VEVENT
BEGIN:VEVENT
DTSTART;VALUE=DATE:20250521
DTEND;VALUE=DATE:20250522
DTSTAMP:20260425T080342
CREATED:20250324T173907Z
LAST-MODIFIED:20250324T173907Z
UID:6244-1747785600-1747871999@evilhorsebrewing.com
SUMMARY:$4 POURS
DESCRIPTION:
URL:https://evilhorsebrewing.com/event/4-pours-20/
LOCATION:Evil Horse Brewing Co.\, 1338 Main Street\, CRETE\, IL\, 60417
END:VEVENT
BEGIN:VEVENT
DTSTART;VALUE=DATE:20250521
DTEND;VALUE=DATE:20250522
DTSTAMP:20260425T080342
CREATED:20250324T173646Z
LAST-MODIFIED:20250324T173646Z
UID:6234-1747785600-1747871999@evilhorsebrewing.com
SUMMARY:$6 Aperol Spritz
DESCRIPTION:
URL:https://evilhorsebrewing.com/event/6-aperol-spritz-19/
LOCATION:Evil Horse Brewing Co.\, 1338 Main Street\, CRETE\, IL\, 60417
END:VEVENT
BEGIN:VEVENT
DTSTART;VALUE=DATE:20250520
DTEND;VALUE=DATE:20250521
DTSTAMP:20260425T080342
CREATED:20250324T173432Z
LAST-MODIFIED:20250324T173432Z
UID:6228-1747699200-1747785599@evilhorsebrewing.com
SUMMARY:TACO Tuesday
DESCRIPTION:MARGARITA Special\, $1 off Mexican Lager\, Meatz Big Mama Food Truck Taco Dinner Special
URL:https://evilhorsebrewing.com/event/taco-tuesday-20/
LOCATION:Evil Horse Brewing Co.\, 1338 Main Street\, CRETE\, IL\, 60417
END:VEVENT
BEGIN:VEVENT
DTSTART;VALUE=DATE:20250519
DTEND;VALUE=DATE:20250520
DTSTAMP:20260425T080342
CREATED:20250227T183443Z
LAST-MODIFIED:20250227T183443Z
UID:6092-1747612800-1747699199@evilhorsebrewing.com
SUMMARY:BEER OF THE WEEK Tapping
DESCRIPTION:
URL:https://evilhorsebrewing.com/event/beer-of-the-week-tapping-19/
LOCATION:Evil Horse Brewing Co.\, 1338 Main Street\, CRETE\, IL\, 60417
END:VEVENT
BEGIN:VEVENT
DTSTART;VALUE=DATE:20250519
DTEND;VALUE=DATE:20250520
DTSTAMP:20260425T080342
CREATED:20250227T181208Z
LAST-MODIFIED:20250227T181208Z
UID:6018-1747612800-1747699199@evilhorsebrewing.com
SUMMARY:$1 off drafts\, ciders & seltzers
DESCRIPTION:
URL:https://evilhorsebrewing.com/event/1-off-drafts-ciders-seltzers-127/
LOCATION:Evil Horse Brewing Co.\, 1338 Main Street\, CRETE\, IL\, 60417
END:VEVENT
BEGIN:VEVENT
DTSTART;VALUE=DATE:20250518
DTEND;VALUE=DATE:20250519
DTSTAMP:20260425T080342
CREATED:20250227T181938Z
LAST-MODIFIED:20250227T181938Z
UID:6046-1747526400-1747612799@evilhorsebrewing.com
SUMMARY:$1 off drafts\, ciders & seltzers
DESCRIPTION:
URL:https://evilhorsebrewing.com/event/1-off-drafts-ciders-seltzers-141/
LOCATION:Evil Horse Brewing Co.\, 1338 Main Street\, CRETE\, IL\, 60417
END:VEVENT
BEGIN:VEVENT
DTSTART;VALUE=DATE:20250518
DTEND;VALUE=DATE:20250519
DTSTAMP:20260425T080342
CREATED:20250227T181907Z
LAST-MODIFIED:20250227T181907Z
UID:6044-1747526400-1747612799@evilhorsebrewing.com
SUMMARY:$1 off drafts\, ciders & seltzers
DESCRIPTION:
URL:https://evilhorsebrewing.com/event/1-off-drafts-ciders-seltzers-140/
LOCATION:Evil Horse Brewing Co.\, 1338 Main Street\, CRETE\, IL\, 60417
END:VEVENT
BEGIN:VEVENT
DTSTART;TZID=America/Chicago:20250517T180000
DTEND;TZID=America/Chicago:20250517T210000
DTSTAMP:20260425T080342
CREATED:20250426T172645Z
LAST-MODIFIED:20250426T172645Z
UID:6300-1747504800-1747515600@evilhorsebrewing.com
SUMMARY:Blind Draw Cornhole
DESCRIPTION:Come play with us! Just $10 to enter\, and winners will be rewarded! Bring a friend…or don’t! Just come play!  Find us on Scorholio.com
URL:https://evilhorsebrewing.com/event/blind-draw-cornhole-2/
LOCATION:Evil Horse Brewing Co.\, 1338 Main Street\, CRETE\, IL\, 60417
END:VEVENT
BEGIN:VEVENT
DTSTART;VALUE=DATE:20250517
DTEND;VALUE=DATE:20250518
DTSTAMP:20260425T080342
CREATED:20250227T175852Z
LAST-MODIFIED:20250227T175947Z
UID:5995-1747440000-1747526399@evilhorsebrewing.com
SUMMARY:To Go Specials
DESCRIPTION:$2 off 4 pack of 16oz cans \n$2 off 6 pack of 12oz cans \n$5 off mixed 12 pack \n$10 pack of the week
URL:https://evilhorsebrewing.com/event/to-go-specials-19/
LOCATION:Evil Horse Brewing Co.\, 1338 Main Street\, CRETE\, IL\, 60417
END:VEVENT
BEGIN:VEVENT
DTSTART;TZID=America/Chicago:20250516T150000
DTEND;TZID=America/Chicago:20250516T180000
DTSTAMP:20260425T080342
CREATED:20250304T181448Z
LAST-MODIFIED:20250304T181532Z
UID:6202-1747407600-1747418400@evilhorsebrewing.com
SUMMARY:HAPPY HOUR
DESCRIPTION:$1 OFF PINTS – $1 OFF CANS – $1 OFF WINE
URL:https://evilhorsebrewing.com/event/happy-hour-61/
LOCATION:Evil Horse Brewing Co.\, 1338 Main Street\, CRETE\, IL\, 60417
END:VEVENT
BEGIN:VEVENT
DTSTART;TZID=America/Chicago:20250515T190000
DTEND;TZID=America/Chicago:20250515T210000
DTSTAMP:20260425T080342
CREATED:20250510T014650Z
LAST-MODIFIED:20250510T014650Z
UID:6313-1747335600-1747342800@evilhorsebrewing.com
SUMMARY:BINGO Night
DESCRIPTION:Free to play\, fun to win!
URL:https://evilhorsebrewing.com/event/bingo-night-25/
LOCATION:Evil Horse Brewing Co.\, 1338 Main Street\, CRETE\, IL\, 60417
END:VEVENT
BEGIN:VEVENT
DTSTART;VALUE=DATE:20250515
DTEND;VALUE=DATE:20250516
DTSTAMP:20260425T080342
CREATED:20250304T180758Z
LAST-MODIFIED:20250304T180758Z
UID:6186-1747267200-1747353599@evilhorsebrewing.com
SUMMARY:$5 BEER IT FORWARD
DESCRIPTION:
URL:https://evilhorsebrewing.com/event/5-beer-it-forward-19/
LOCATION:Evil Horse Brewing Co.\, 1338 Main Street\, CRETE\, IL\, 60417
END:VEVENT
BEGIN:VEVENT
DTSTART;VALUE=DATE:20250515
DTEND;VALUE=DATE:20250516
DTSTAMP:20260425T080342
CREATED:20250304T175925Z
LAST-MODIFIED:20250304T180322Z
UID:6163-1747267200-1747353599@evilhorsebrewing.com
SUMMARY:$8 Sampler Flights
DESCRIPTION:
URL:https://evilhorsebrewing.com/event/8-sampler-flights-47/
LOCATION:Evil Horse Brewing Co.\, 1338 Main Street\, CRETE\, IL\, 60417
END:VEVENT
BEGIN:VEVENT
DTSTART;VALUE=DATE:20250514
DTEND;VALUE=DATE:20250515
DTSTAMP:20260425T080342
CREATED:20250324T173845Z
LAST-MODIFIED:20250324T173845Z
UID:6242-1747180800-1747267199@evilhorsebrewing.com
SUMMARY:$4 POURS
DESCRIPTION:
URL:https://evilhorsebrewing.com/event/4-pours-19/
LOCATION:Evil Horse Brewing Co.\, 1338 Main Street\, CRETE\, IL\, 60417
END:VEVENT
BEGIN:VEVENT
DTSTART;VALUE=DATE:20250514
DTEND;VALUE=DATE:20250515
DTSTAMP:20260425T080342
CREATED:20250324T173623Z
LAST-MODIFIED:20250324T173623Z
UID:6232-1747180800-1747267199@evilhorsebrewing.com
SUMMARY:$6 Aperol Spritz
DESCRIPTION:
URL:https://evilhorsebrewing.com/event/6-aperol-spritz-18/
LOCATION:Evil Horse Brewing Co.\, 1338 Main Street\, CRETE\, IL\, 60417
END:VEVENT
BEGIN:VEVENT
DTSTART;VALUE=DATE:20250513
DTEND;VALUE=DATE:20250514
DTSTAMP:20260425T080342
CREATED:20250324T173335Z
LAST-MODIFIED:20250324T173335Z
UID:6226-1747094400-1747180799@evilhorsebrewing.com
SUMMARY:TACO Tuesday
DESCRIPTION:MARGARITA Special\, $1 off Mexican Lager\, Meatz Big Mama Food Truck Taco Dinner Special
URL:https://evilhorsebrewing.com/event/taco-tuesday-19/
LOCATION:Evil Horse Brewing Co.\, 1338 Main Street\, CRETE\, IL\, 60417
END:VEVENT
BEGIN:VEVENT
DTSTART;VALUE=DATE:20250512
DTEND;VALUE=DATE:20250513
DTSTAMP:20260425T080342
CREATED:20250227T183414Z
LAST-MODIFIED:20250227T183414Z
UID:6090-1747008000-1747094399@evilhorsebrewing.com
SUMMARY:BEER OF THE WEEK Tapping
DESCRIPTION:
URL:https://evilhorsebrewing.com/event/beer-of-the-week-tapping-18/
LOCATION:Evil Horse Brewing Co.\, 1338 Main Street\, CRETE\, IL\, 60417
END:VEVENT
BEGIN:VEVENT
DTSTART;VALUE=DATE:20250512
DTEND;VALUE=DATE:20250513
DTSTAMP:20260425T080342
CREATED:20250227T181137Z
LAST-MODIFIED:20250227T181137Z
UID:6016-1747008000-1747094399@evilhorsebrewing.com
SUMMARY:$1 off drafts\, ciders & seltzers
DESCRIPTION:
URL:https://evilhorsebrewing.com/event/1-off-drafts-ciders-seltzers-126/
LOCATION:Evil Horse Brewing Co.\, 1338 Main Street\, CRETE\, IL\, 60417
END:VEVENT
BEGIN:VEVENT
DTSTART;VALUE=DATE:20250511
DTEND;VALUE=DATE:20250512
DTSTAMP:20260425T080342
CREATED:20250227T181837Z
LAST-MODIFIED:20250227T181837Z
UID:6042-1746921600-1747007999@evilhorsebrewing.com
SUMMARY:$1 off drafts\, ciders & seltzers
DESCRIPTION:
URL:https://evilhorsebrewing.com/event/1-off-drafts-ciders-seltzers-139/
LOCATION:Evil Horse Brewing Co.\, 1338 Main Street\, CRETE\, IL\, 60417
END:VEVENT
BEGIN:VEVENT
DTSTART;VALUE=DATE:20250511
DTEND;VALUE=DATE:20250512
DTSTAMP:20260425T080342
CREATED:20250227T181808Z
LAST-MODIFIED:20250227T181808Z
UID:6040-1746921600-1747007999@evilhorsebrewing.com
SUMMARY:$1 off drafts\, ciders & seltzers
DESCRIPTION:
URL:https://evilhorsebrewing.com/event/1-off-drafts-ciders-seltzers-138/
LOCATION:Evil Horse Brewing Co.\, 1338 Main Street\, CRETE\, IL\, 60417
END:VEVENT
END:VCALENDAR