BEGIN:VCALENDAR
VERSION:2.0
PRODID:-//Evil Horse Brewing Co. - ECPv5.14.2.1//NONSGML v1.0//EN
CALSCALE:GREGORIAN
METHOD:PUBLISH
X-WR-CALNAME:Evil Horse Brewing Co.
X-ORIGINAL-URL:https://evilhorsebrewing.com
X-WR-CALDESC:Events for Evil Horse Brewing Co.
REFRESH-INTERVAL;VALUE=DURATION:PT1H
X-Robots-Tag:noindex
X-PUBLISHED-TTL:PT1H
BEGIN:VTIMEZONE
TZID:America/Chicago
BEGIN:DAYLIGHT
TZOFFSETFROM:-0600
TZOFFSETTO:-0500
TZNAME:CDT
DTSTART:20250309T080000
END:DAYLIGHT
BEGIN:STANDARD
TZOFFSETFROM:-0500
TZOFFSETTO:-0600
TZNAME:CST
DTSTART:20251102T070000
END:STANDARD
END:VTIMEZONE
BEGIN:VEVENT
DTSTART;VALUE=DATE:20251001
DTEND;VALUE=DATE:20251002
DTSTAMP:20260421T004747
CREATED:20250808T173205Z
LAST-MODIFIED:20250808T173205Z
UID:6632-1759276800-1759363199@evilhorsebrewing.com
SUMMARY:Whiskey Wednesday
DESCRIPTION:$24 Whiskey Flights \n$12 Old Fashioned \n$1 off Doubles
URL:https://evilhorsebrewing.com/event/whiskey-wednesday-9/
LOCATION:Evil Horse Alehouse\, 1338 Main Street\, Crete\, IL\, 60417\, United States
END:VEVENT
BEGIN:VEVENT
DTSTART;VALUE=DATE:20251001
DTEND;VALUE=DATE:20251002
DTSTAMP:20260421T004747
CREATED:20250808T173056Z
LAST-MODIFIED:20250808T173056Z
UID:6630-1759276800-1759363199@evilhorsebrewing.com
SUMMARY:$6 Aperol Spritz
DESCRIPTION:
URL:https://evilhorsebrewing.com/event/6-aperol-spritz-38/
LOCATION:Evil Horse Alehouse\, 1338 Main Street\, Crete\, IL\, 60417\, United States
END:VEVENT
BEGIN:VEVENT
DTSTART;VALUE=DATE:20250930
DTEND;VALUE=DATE:20251001
DTSTAMP:20260421T004747
CREATED:20250806T181228Z
LAST-MODIFIED:20250806T181228Z
UID:6612-1759190400-1759276799@evilhorsebrewing.com
SUMMARY:TACO Tuesday
DESCRIPTION:MARGARITA Special\, $1 off Mexican Lager\, Meatz Big Mama Food Truck Taco Dinner Special
URL:https://evilhorsebrewing.com/event/taco-tuesday-35/
LOCATION:Evil Horse Alehouse\, 1338 Main Street\, Crete\, IL\, 60417\, United States
END:VEVENT
BEGIN:VEVENT
DTSTART;VALUE=DATE:20250929
DTEND;VALUE=DATE:20250930
DTSTAMP:20260421T004747
CREATED:20250806T180800Z
LAST-MODIFIED:20250806T180800Z
UID:6600-1759104000-1759190399@evilhorsebrewing.com
SUMMARY:BEER OF THE WEEK Tapping
DESCRIPTION:
URL:https://evilhorsebrewing.com/event/beer-of-the-week-tapping-39/
LOCATION:Evil Horse Alehouse\, 1338 Main Street\, Crete\, IL\, 60417\, United States
END:VEVENT
BEGIN:VEVENT
DTSTART;VALUE=DATE:20250929
DTEND;VALUE=DATE:20250930
DTSTAMP:20260421T004747
CREATED:20250806T180428Z
LAST-MODIFIED:20250806T180428Z
UID:6590-1759104000-1759190399@evilhorsebrewing.com
SUMMARY:$1 off drafts\, ciders & seltzers
DESCRIPTION:
URL:https://evilhorsebrewing.com/event/1-off-drafts-ciders-seltzers-161/
LOCATION:Evil Horse Alehouse\, 1338 Main Street\, Crete\, IL\, 60417\, United States
END:VEVENT
BEGIN:VEVENT
DTSTART;TZID=America/Chicago:20250928T170000
DTEND;TZID=America/Chicago:20250928T193000
DTSTAMP:20260421T004747
CREATED:20250808T175105Z
LAST-MODIFIED:20250808T175105Z
UID:6692-1759078800-1759087800@evilhorsebrewing.com
SUMMARY:Open Mic with Mike Wallace
DESCRIPTION:
URL:https://evilhorsebrewing.com/event/open-mic-with-mike-wallace-5/
LOCATION:Evil Horse Alehouse\, 1338 Main Street\, Crete\, IL\, 60417\, United States
END:VEVENT
BEGIN:VEVENT
DTSTART;VALUE=DATE:20250928
DTEND;VALUE=DATE:20250929
DTSTAMP:20260421T004747
CREATED:20250808T174845Z
LAST-MODIFIED:20250808T174845Z
UID:6686-1759017600-1759103999@evilhorsebrewing.com
SUMMARY:SUNDAY FUNDAY
DESCRIPTION:$1 off drafts\, ciders & seltzers \n$3 off bottles of wine \nBuild your own Bloody Mary Bar!
URL:https://evilhorsebrewing.com/event/sunday-funday-13/
LOCATION:Evil Horse Alehouse\, 1338 Main Street\, Crete\, IL\, 60417\, United States
END:VEVENT
BEGIN:VEVENT
DTSTART;VALUE=DATE:20250927
DTEND;VALUE=DATE:20250928
DTSTAMP:20260421T004747
CREATED:20250808T174535Z
LAST-MODIFIED:20250808T174535Z
UID:6676-1758931200-1759017599@evilhorsebrewing.com
SUMMARY:To Go Specials
DESCRIPTION:$2 off 4 pack of 16oz cans \n$2 off 6 pack of 12oz cans \n$5 off mixed 12 pack
URL:https://evilhorsebrewing.com/event/to-go-specials-36/
LOCATION:Evil Horse Alehouse\, 1338 Main Street\, Crete\, IL\, 60417\, United States
END:VEVENT
BEGIN:VEVENT
DTSTART;TZID=America/Chicago:20250926T150000
DTEND;TZID=America/Chicago:20250926T180000
DTSTAMP:20260421T004747
CREATED:20250808T174136Z
LAST-MODIFIED:20250808T174136Z
UID:6664-1758898800-1758909600@evilhorsebrewing.com
SUMMARY:HAPPY HOUR
DESCRIPTION:$1 OFF PINTS – $1 OFF CANS – $1 OFF WINE
URL:https://evilhorsebrewing.com/event/happy-hour-75/
LOCATION:Evil Horse Alehouse\, 1338 Main Street\, Crete\, IL\, 60417\, United States
END:VEVENT
BEGIN:VEVENT
DTSTART;VALUE=DATE:20250926
DTEND;VALUE=DATE:20250927
DTSTAMP:20260421T004747
CREATED:20250808T174507Z
LAST-MODIFIED:20250808T174507Z
UID:6674-1758844800-1758931199@evilhorsebrewing.com
SUMMARY:To Go Specials
DESCRIPTION:$2 off 4 pack of 16oz cans \n$2 off 6 pack of 12oz cans \n$5 off mixed 12 pack
URL:https://evilhorsebrewing.com/event/to-go-specials-35/
LOCATION:Evil Horse Alehouse\, 1338 Main Street\, Crete\, IL\, 60417\, United States
END:VEVENT
BEGIN:VEVENT
DTSTART;VALUE=DATE:20250925
DTEND;VALUE=DATE:20250926
DTSTAMP:20260421T004747
CREATED:20250808T173756Z
LAST-MODIFIED:20250808T173756Z
UID:6654-1758758400-1758844799@evilhorsebrewing.com
SUMMARY:$5 Beer it Forward Coupons
DESCRIPTION:
URL:https://evilhorsebrewing.com/event/5-beer-it-forward-coupons-13/
LOCATION:Evil Horse Alehouse\, 1338 Main Street\, Crete\, IL\, 60417\, United States
END:VEVENT
BEGIN:VEVENT
DTSTART;VALUE=DATE:20250925
DTEND;VALUE=DATE:20250926
DTSTAMP:20260421T004747
CREATED:20250808T173514Z
LAST-MODIFIED:20250808T173514Z
UID:6644-1758758400-1758844799@evilhorsebrewing.com
SUMMARY:$8 Sampler Flights
DESCRIPTION:
URL:https://evilhorsebrewing.com/event/8-sampler-flights-66/
LOCATION:Evil Horse Alehouse\, 1338 Main Street\, Crete\, IL\, 60417\, United States
END:VEVENT
BEGIN:VEVENT
DTSTART;VALUE=DATE:20250924
DTEND;VALUE=DATE:20250925
DTSTAMP:20260421T004747
CREATED:20250808T173019Z
LAST-MODIFIED:20250808T173019Z
UID:6628-1758672000-1758758399@evilhorsebrewing.com
SUMMARY:$6 Aperol Spritz
DESCRIPTION:
URL:https://evilhorsebrewing.com/event/6-aperol-spritz-37/
LOCATION:Evil Horse Alehouse\, 1338 Main Street\, Crete\, IL\, 60417\, United States
END:VEVENT
BEGIN:VEVENT
DTSTART;VALUE=DATE:20250924
DTEND;VALUE=DATE:20250925
DTSTAMP:20260421T004747
CREATED:20250808T172542Z
LAST-MODIFIED:20250808T172542Z
UID:6620-1758672000-1758758399@evilhorsebrewing.com
SUMMARY:$4 POURS
DESCRIPTION:
URL:https://evilhorsebrewing.com/event/4-pours-34/
LOCATION:Evil Horse Alehouse\, 1338 Main Street\, Crete\, IL\, 60417\, United States
END:VEVENT
BEGIN:VEVENT
DTSTART;VALUE=DATE:20250924
DTEND;VALUE=DATE:20250925
DTSTAMP:20260421T004747
CREATED:20250806T180037Z
LAST-MODIFIED:20250806T180037Z
UID:6582-1758672000-1758758399@evilhorsebrewing.com
SUMMARY:Whiskey Wednesday
DESCRIPTION:$24 Whiskey Flights \n$12 Old Fashioned \n$1 off Doubles
URL:https://evilhorsebrewing.com/event/whiskey-wednesday-8/
LOCATION:Evil Horse Alehouse\, 1338 Main Street\, Crete\, IL\, 60417\, United States
END:VEVENT
BEGIN:VEVENT
DTSTART;VALUE=DATE:20250923
DTEND;VALUE=DATE:20250924
DTSTAMP:20260421T004747
CREATED:20250806T181145Z
LAST-MODIFIED:20250806T181145Z
UID:6610-1758585600-1758671999@evilhorsebrewing.com
SUMMARY:TACO Tuesday
DESCRIPTION:MARGARITA Special\, $1 off Mexican Lager\, Meatz Big Mama Food Truck Taco Dinner Special
URL:https://evilhorsebrewing.com/event/taco-tuesday-34/
LOCATION:Evil Horse Alehouse\, 1338 Main Street\, Crete\, IL\, 60417\, United States
END:VEVENT
BEGIN:VEVENT
DTSTART;VALUE=DATE:20250922
DTEND;VALUE=DATE:20250923
DTSTAMP:20260421T004747
CREATED:20250806T180731Z
LAST-MODIFIED:20250806T180731Z
UID:6598-1758499200-1758585599@evilhorsebrewing.com
SUMMARY:BEER OF THE WEEK Tapping
DESCRIPTION:
URL:https://evilhorsebrewing.com/event/beer-of-the-week-tapping-38/
LOCATION:Evil Horse Alehouse\, 1338 Main Street\, Crete\, IL\, 60417\, United States
END:VEVENT
BEGIN:VEVENT
DTSTART;VALUE=DATE:20250922
DTEND;VALUE=DATE:20250923
DTSTAMP:20260421T004747
CREATED:20250806T180351Z
LAST-MODIFIED:20250806T180351Z
UID:6588-1758499200-1758585599@evilhorsebrewing.com
SUMMARY:$1 off drafts\, ciders & seltzers
DESCRIPTION:
URL:https://evilhorsebrewing.com/event/1-off-drafts-ciders-seltzers-160/
LOCATION:Evil Horse Alehouse\, 1338 Main Street\, Crete\, IL\, 60417\, United States
END:VEVENT
BEGIN:VEVENT
DTSTART;VALUE=DATE:20250921
DTEND;VALUE=DATE:20250922
DTSTAMP:20260421T004747
CREATED:20250808T174814Z
LAST-MODIFIED:20250808T174814Z
UID:6684-1758412800-1758499199@evilhorsebrewing.com
SUMMARY:SUNDAY FUNDAY
DESCRIPTION:$1 off drafts\, ciders & seltzers \n$3 off bottles of wine \nBuild your own Bloody Mary Bar!
URL:https://evilhorsebrewing.com/event/sunday-funday-12/
LOCATION:Evil Horse Alehouse\, 1338 Main Street\, Crete\, IL\, 60417\, United States
END:VEVENT
BEGIN:VEVENT
DTSTART;VALUE=DATE:20250920
DTEND;VALUE=DATE:20250921
DTSTAMP:20260421T004747
CREATED:20250808T174438Z
LAST-MODIFIED:20250808T174438Z
UID:6672-1758326400-1758412799@evilhorsebrewing.com
SUMMARY:To Go Specials
DESCRIPTION:$2 off 4 pack of 16oz cans \n$2 off 6 pack of 12oz cans \n$5 off mixed 12 pack
URL:https://evilhorsebrewing.com/event/to-go-specials-34/
LOCATION:Evil Horse Alehouse\, 1338 Main Street\, Crete\, IL\, 60417\, United States
END:VEVENT
BEGIN:VEVENT
DTSTART;TZID=America/Chicago:20250919T190000
DTEND;TZID=America/Chicago:20250919T220000
DTSTAMP:20260421T004747
CREATED:20250813T190151Z
LAST-MODIFIED:20250813T190151Z
UID:6694-1758308400-1758319200@evilhorsebrewing.com
SUMMARY:Music Bingo
DESCRIPTION:
URL:https://evilhorsebrewing.com/event/music-bingo-4/
LOCATION:Evil Horse Alehouse\, 1338 Main Street\, Crete\, IL\, 60417\, United States
END:VEVENT
BEGIN:VEVENT
DTSTART;TZID=America/Chicago:20250919T150000
DTEND;TZID=America/Chicago:20250919T180000
DTSTAMP:20260421T004747
CREATED:20250808T174052Z
LAST-MODIFIED:20250808T174052Z
UID:6662-1758294000-1758304800@evilhorsebrewing.com
SUMMARY:HAPPY HOUR
DESCRIPTION:$1 OFF PINTS – $1 OFF CANS – $1 OFF WINE
URL:https://evilhorsebrewing.com/event/happy-hour-74/
LOCATION:Evil Horse Alehouse\, 1338 Main Street\, Crete\, IL\, 60417\, United States
END:VEVENT
BEGIN:VEVENT
DTSTART;VALUE=DATE:20250918
DTEND;VALUE=DATE:20250919
DTSTAMP:20260421T004747
CREATED:20250808T173735Z
LAST-MODIFIED:20250808T173735Z
UID:6652-1758153600-1758239999@evilhorsebrewing.com
SUMMARY:$5 Beer it Forward Coupons
DESCRIPTION:
URL:https://evilhorsebrewing.com/event/5-beer-it-forward-coupons-12/
LOCATION:Evil Horse Alehouse\, 1338 Main Street\, Crete\, IL\, 60417\, United States
END:VEVENT
BEGIN:VEVENT
DTSTART;VALUE=DATE:20250918
DTEND;VALUE=DATE:20250919
DTSTAMP:20260421T004747
CREATED:20250808T173450Z
LAST-MODIFIED:20250808T173450Z
UID:6642-1758153600-1758239999@evilhorsebrewing.com
SUMMARY:$8 Sampler Flights
DESCRIPTION:
URL:https://evilhorsebrewing.com/event/8-sampler-flights-65/
LOCATION:Evil Horse Alehouse\, 1338 Main Street\, Crete\, IL\, 60417\, United States
END:VEVENT
BEGIN:VEVENT
DTSTART;VALUE=DATE:20250917
DTEND;VALUE=DATE:20250918
DTSTAMP:20260421T004747
CREATED:20250808T172955Z
LAST-MODIFIED:20250808T172955Z
UID:6626-1758067200-1758153599@evilhorsebrewing.com
SUMMARY:$6 Aperol Spritz
DESCRIPTION:
URL:https://evilhorsebrewing.com/event/6-aperol-spritz-36/
LOCATION:Evil Horse Alehouse\, 1338 Main Street\, Crete\, IL\, 60417\, United States
END:VEVENT
BEGIN:VEVENT
DTSTART;VALUE=DATE:20250917
DTEND;VALUE=DATE:20250918
DTSTAMP:20260421T004747
CREATED:20250808T172517Z
LAST-MODIFIED:20250808T172517Z
UID:6618-1758067200-1758153599@evilhorsebrewing.com
SUMMARY:$4 POURS
DESCRIPTION:
URL:https://evilhorsebrewing.com/event/4-pours-33/
LOCATION:Evil Horse Alehouse\, 1338 Main Street\, Crete\, IL\, 60417\, United States
END:VEVENT
BEGIN:VEVENT
DTSTART;VALUE=DATE:20250917
DTEND;VALUE=DATE:20250918
DTSTAMP:20260421T004747
CREATED:20250806T175955Z
LAST-MODIFIED:20250806T175955Z
UID:6580-1758067200-1758153599@evilhorsebrewing.com
SUMMARY:Whiskey Wednesday
DESCRIPTION:$24 Whiskey Flights \n$12 Old Fashioned \n$1 off Doubles
URL:https://evilhorsebrewing.com/event/whiskey-wednesday-7/
LOCATION:Evil Horse Alehouse\, 1338 Main Street\, Crete\, IL\, 60417\, United States
END:VEVENT
BEGIN:VEVENT
DTSTART;VALUE=DATE:20250916
DTEND;VALUE=DATE:20250917
DTSTAMP:20260421T004747
CREATED:20250806T181108Z
LAST-MODIFIED:20250806T181108Z
UID:6608-1757980800-1758067199@evilhorsebrewing.com
SUMMARY:TACO Tuesday
DESCRIPTION:MARGARITA Special\, $1 off Mexican Lager\, Meatz Big Mama Food Truck Taco Dinner Special
URL:https://evilhorsebrewing.com/event/taco-tuesday-33/
LOCATION:Evil Horse Alehouse\, 1338 Main Street\, Crete\, IL\, 60417\, United States
END:VEVENT
BEGIN:VEVENT
DTSTART;VALUE=DATE:20250915
DTEND;VALUE=DATE:20250916
DTSTAMP:20260421T004747
CREATED:20250806T180658Z
LAST-MODIFIED:20250806T180658Z
UID:6596-1757894400-1757980799@evilhorsebrewing.com
SUMMARY:BEER OF THE WEEK Tapping
DESCRIPTION:
URL:https://evilhorsebrewing.com/event/beer-of-the-week-tapping-37/
LOCATION:Evil Horse Alehouse\, 1338 Main Street\, Crete\, IL\, 60417\, United States
END:VEVENT
BEGIN:VEVENT
DTSTART;VALUE=DATE:20250915
DTEND;VALUE=DATE:20250916
DTSTAMP:20260421T004747
CREATED:20250806T180323Z
LAST-MODIFIED:20250806T180323Z
UID:6586-1757894400-1757980799@evilhorsebrewing.com
SUMMARY:$1 off drafts\, ciders & seltzers
DESCRIPTION:
URL:https://evilhorsebrewing.com/event/1-off-drafts-ciders-seltzers-159/
LOCATION:Evil Horse Alehouse\, 1338 Main Street\, Crete\, IL\, 60417\, United States
END:VEVENT
END:VCALENDAR