BEGIN:VCALENDAR
VERSION:2.0
PRODID:-//Evil Horse Brewing Co. - ECPv5.14.2.1//NONSGML v1.0//EN
CALSCALE:GREGORIAN
METHOD:PUBLISH
X-WR-CALNAME:Evil Horse Brewing Co.
X-ORIGINAL-URL:https://evilhorsebrewing.com
X-WR-CALDESC:Events for Evil Horse Brewing Co.
REFRESH-INTERVAL;VALUE=DURATION:PT1H
X-Robots-Tag:noindex
X-PUBLISHED-TTL:PT1H
BEGIN:VTIMEZONE
TZID:America/Chicago
BEGIN:DAYLIGHT
TZOFFSETFROM:-0600
TZOFFSETTO:-0500
TZNAME:CDT
DTSTART:20250309T080000
END:DAYLIGHT
BEGIN:STANDARD
TZOFFSETFROM:-0500
TZOFFSETTO:-0600
TZNAME:CST
DTSTART:20251102T070000
END:STANDARD
END:VTIMEZONE
BEGIN:VEVENT
DTSTART;VALUE=DATE:20250702
DTEND;VALUE=DATE:20250703
DTSTAMP:20260421T221503
CREATED:20250731T170433Z
LAST-MODIFIED:20250731T170433Z
UID:6432-1751414400-1751500799@evilhorsebrewing.com
SUMMARY:$6 Aperol Spritz
DESCRIPTION:
URL:https://evilhorsebrewing.com/event/6-aperol-spritz-25/
LOCATION:Evil Horse Brewing Co.\, 1338 Main Street\, CRETE\, IL\, 60417
END:VEVENT
BEGIN:VEVENT
DTSTART;VALUE=DATE:20250702
DTEND;VALUE=DATE:20250703
DTSTAMP:20260421T221503
CREATED:20250731T165750Z
LAST-MODIFIED:20250731T165750Z
UID:6408-1751414400-1751500799@evilhorsebrewing.com
SUMMARY:$4 POURS
DESCRIPTION:
URL:https://evilhorsebrewing.com/event/4-pours-22/
LOCATION:Evil Horse Brewing Co.\, 1338 Main Street\, CRETE\, IL\, 60417
END:VEVENT
BEGIN:VEVENT
DTSTART;TZID=America/Chicago:20250701T150000
DTEND;TZID=America/Chicago:20250701T200000
DTSTAMP:20260421T221503
CREATED:20250731T165034Z
LAST-MODIFIED:20250731T165034Z
UID:6390-1751382000-1751400000@evilhorsebrewing.com
SUMMARY:TACO Tuesday
DESCRIPTION:MARGARITA Special\, $1 off Mexican Lager\, Meatz Big Mama Food Truck Taco Dinner Special
URL:https://evilhorsebrewing.com/event/taco-tuesday-22/
LOCATION:Evil Horse Brewing Co.\, 1338 Main Street\, CRETE\, IL\, 60417
END:VEVENT
BEGIN:VEVENT
DTSTART;VALUE=DATE:20250630
DTEND;VALUE=DATE:20250701
DTSTAMP:20260421T221503
CREATED:20250227T183941Z
LAST-MODIFIED:20250227T183941Z
UID:6110-1751241600-1751327999@evilhorsebrewing.com
SUMMARY:BEER OF THE WEEK Tapping
DESCRIPTION:
URL:https://evilhorsebrewing.com/event/beer-of-the-week-tapping-28/
LOCATION:Evil Horse Brewing Co.\, 1338 Main Street\, CRETE\, IL\, 60417
END:VEVENT
BEGIN:VEVENT
DTSTART;VALUE=DATE:20250630
DTEND;VALUE=DATE:20250701
DTSTAMP:20260421T221503
CREATED:20250227T181527Z
LAST-MODIFIED:20250227T181527Z
UID:6030-1751241600-1751327999@evilhorsebrewing.com
SUMMARY:$1 off drafts\, ciders & seltzers
DESCRIPTION:
URL:https://evilhorsebrewing.com/event/1-off-drafts-ciders-seltzers-133/
LOCATION:Evil Horse Brewing Co.\, 1338 Main Street\, CRETE\, IL\, 60417
END:VEVENT
BEGIN:VEVENT
DTSTART;VALUE=DATE:20250629
DTEND;VALUE=DATE:20250630
DTSTAMP:20260421T221503
CREATED:20250227T182227Z
LAST-MODIFIED:20250227T182227Z
UID:6058-1751155200-1751241599@evilhorsebrewing.com
SUMMARY:$1 off drafts\, ciders & seltzers
DESCRIPTION:
URL:https://evilhorsebrewing.com/event/1-off-drafts-ciders-seltzers-147/
LOCATION:Evil Horse Brewing Co.\, 1338 Main Street\, CRETE\, IL\, 60417
END:VEVENT
BEGIN:VEVENT
DTSTART;VALUE=DATE:20250625
DTEND;VALUE=DATE:20250626
DTSTAMP:20260421T221503
CREATED:20250731T170404Z
LAST-MODIFIED:20250731T170404Z
UID:6430-1750809600-1750895999@evilhorsebrewing.com
SUMMARY:$6 Aperol Spritz
DESCRIPTION:
URL:https://evilhorsebrewing.com/event/6-aperol-spritz-24/
LOCATION:Evil Horse Brewing Co.\, 1338 Main Street\, CRETE\, IL\, 60417
END:VEVENT
BEGIN:VEVENT
DTSTART;VALUE=DATE:20250623
DTEND;VALUE=DATE:20250624
DTSTAMP:20260421T221503
CREATED:20250227T183911Z
LAST-MODIFIED:20250227T183911Z
UID:6108-1750636800-1750723199@evilhorsebrewing.com
SUMMARY:BEER OF THE WEEK Tapping
DESCRIPTION:
URL:https://evilhorsebrewing.com/event/beer-of-the-week-tapping-27/
LOCATION:Evil Horse Brewing Co.\, 1338 Main Street\, CRETE\, IL\, 60417
END:VEVENT
BEGIN:VEVENT
DTSTART;VALUE=DATE:20250623
DTEND;VALUE=DATE:20250624
DTSTAMP:20260421T221503
CREATED:20250227T181452Z
LAST-MODIFIED:20250227T181452Z
UID:6028-1750636800-1750723199@evilhorsebrewing.com
SUMMARY:$1 off drafts\, ciders & seltzers
DESCRIPTION:
URL:https://evilhorsebrewing.com/event/1-off-drafts-ciders-seltzers-132/
LOCATION:Evil Horse Brewing Co.\, 1338 Main Street\, CRETE\, IL\, 60417
END:VEVENT
BEGIN:VEVENT
DTSTART;VALUE=DATE:20250622
DTEND;VALUE=DATE:20250623
DTSTAMP:20260421T221503
CREATED:20250227T182200Z
LAST-MODIFIED:20250227T182200Z
UID:6056-1750550400-1750636799@evilhorsebrewing.com
SUMMARY:$1 off drafts\, ciders & seltzers
DESCRIPTION:
URL:https://evilhorsebrewing.com/event/1-off-drafts-ciders-seltzers-146/
LOCATION:Evil Horse Brewing Co.\, 1338 Main Street\, CRETE\, IL\, 60417
END:VEVENT
BEGIN:VEVENT
DTSTART;VALUE=DATE:20250618
DTEND;VALUE=DATE:20250619
DTSTAMP:20260421T221503
CREATED:20250731T170324Z
LAST-MODIFIED:20250731T170324Z
UID:6428-1750204800-1750291199@evilhorsebrewing.com
SUMMARY:$6 Aperol Spritz
DESCRIPTION:
URL:https://evilhorsebrewing.com/event/6-aperol-spritz-23/
LOCATION:Evil Horse Brewing Co.\, 1338 Main Street\, CRETE\, IL\, 60417
END:VEVENT
BEGIN:VEVENT
DTSTART;VALUE=DATE:20250616
DTEND;VALUE=DATE:20250617
DTSTAMP:20260421T221503
CREATED:20250227T183815Z
LAST-MODIFIED:20250227T183815Z
UID:6104-1750032000-1750118399@evilhorsebrewing.com
SUMMARY:BEER OF THE WEEK Tapping
DESCRIPTION:
URL:https://evilhorsebrewing.com/event/beer-of-the-week-tapping-25/
LOCATION:Evil Horse Brewing Co.\, 1338 Main Street\, CRETE\, IL\, 60417
END:VEVENT
BEGIN:VEVENT
DTSTART;VALUE=DATE:20250616
DTEND;VALUE=DATE:20250617
DTSTAMP:20260421T221503
CREATED:20250227T181425Z
LAST-MODIFIED:20250227T181425Z
UID:6026-1750032000-1750118399@evilhorsebrewing.com
SUMMARY:$1 off drafts\, ciders & seltzers
DESCRIPTION:
URL:https://evilhorsebrewing.com/event/1-off-drafts-ciders-seltzers-131/
LOCATION:Evil Horse Brewing Co.\, 1338 Main Street\, CRETE\, IL\, 60417
END:VEVENT
BEGIN:VEVENT
DTSTART;VALUE=DATE:20250615
DTEND;VALUE=DATE:20250616
DTSTAMP:20260421T221503
CREATED:20250227T182131Z
LAST-MODIFIED:20250227T182131Z
UID:6054-1749945600-1750031999@evilhorsebrewing.com
SUMMARY:$1 off drafts\, ciders & seltzers
DESCRIPTION:
URL:https://evilhorsebrewing.com/event/1-off-drafts-ciders-seltzers-145/
LOCATION:Evil Horse Brewing Co.\, 1338 Main Street\, CRETE\, IL\, 60417
END:VEVENT
BEGIN:VEVENT
DTSTART;TZID=America/Chicago:20250614T180000
DTEND;TZID=America/Chicago:20250614T210000
DTSTAMP:20260421T221503
CREATED:20250426T172945Z
LAST-MODIFIED:20250426T172945Z
UID:6306-1749924000-1749934800@evilhorsebrewing.com
SUMMARY:Blind Draw Cornhole
DESCRIPTION:Come play with us! Just $10 to enter\, and winners will be rewarded! Bring a friend…or don’t! Just come play! Scorholio.com
URL:https://evilhorsebrewing.com/event/blind-draw-cornhole-5/
LOCATION:Evil Horse Brewing Co.\, 1338 Main Street\, CRETE\, IL\, 60417
END:VEVENT
BEGIN:VEVENT
DTSTART;VALUE=DATE:20250611
DTEND;VALUE=DATE:20250612
DTSTAMP:20260421T221503
CREATED:20250731T170229Z
LAST-MODIFIED:20250731T170229Z
UID:6426-1749600000-1749686399@evilhorsebrewing.com
SUMMARY:$6 Aperol Spritz
DESCRIPTION:
URL:https://evilhorsebrewing.com/event/6-aperol-spritz-22/
LOCATION:Evil Horse Brewing Co.\, 1338 Main Street\, CRETE\, IL\, 60417
END:VEVENT
BEGIN:VEVENT
DTSTART;VALUE=DATE:20250609
DTEND;VALUE=DATE:20250610
DTSTAMP:20260421T221503
CREATED:20250227T183747Z
LAST-MODIFIED:20250227T183747Z
UID:6102-1749427200-1749513599@evilhorsebrewing.com
SUMMARY:BEER OF THE WEEK Tapping
DESCRIPTION:
URL:https://evilhorsebrewing.com/event/beer-of-the-week-tapping-24/
LOCATION:Evil Horse Brewing Co.\, 1338 Main Street\, CRETE\, IL\, 60417
END:VEVENT
BEGIN:VEVENT
DTSTART;VALUE=DATE:20250609
DTEND;VALUE=DATE:20250610
DTSTAMP:20260421T221503
CREATED:20250227T181358Z
LAST-MODIFIED:20250227T181358Z
UID:6024-1749427200-1749513599@evilhorsebrewing.com
SUMMARY:$1 off drafts\, ciders & seltzers
DESCRIPTION:
URL:https://evilhorsebrewing.com/event/1-off-drafts-ciders-seltzers-130/
LOCATION:Evil Horse Brewing Co.\, 1338 Main Street\, CRETE\, IL\, 60417
END:VEVENT
BEGIN:VEVENT
DTSTART;VALUE=DATE:20250608
DTEND;VALUE=DATE:20250609
DTSTAMP:20260421T221503
CREATED:20250227T182101Z
LAST-MODIFIED:20250227T182101Z
UID:6052-1749340800-1749427199@evilhorsebrewing.com
SUMMARY:$1 off drafts\, ciders & seltzers
DESCRIPTION:
URL:https://evilhorsebrewing.com/event/1-off-drafts-ciders-seltzers-144/
LOCATION:Evil Horse Brewing Co.\, 1338 Main Street\, CRETE\, IL\, 60417
END:VEVENT
BEGIN:VEVENT
DTSTART;TZID=America/Chicago:20250607T180000
DTEND;TZID=America/Chicago:20250607T210000
DTSTAMP:20260421T221503
CREATED:20250426T172857Z
LAST-MODIFIED:20250426T172857Z
UID:6304-1749319200-1749330000@evilhorsebrewing.com
SUMMARY:Blind Draw Cornhole
DESCRIPTION:Come play with us! Just $10 to enter\, and winners will be rewarded! Bring a friend…or don’t! Just come play!  Find us on Scorholio.com
URL:https://evilhorsebrewing.com/event/blind-draw-cornhole-4/
LOCATION:Evil Horse Brewing Co.\, 1338 Main Street\, CRETE\, IL\, 60417
END:VEVENT
BEGIN:VEVENT
DTSTART;TZID=America/Chicago:20250606T190000
DTEND;TZID=America/Chicago:20250606T220000
DTSTAMP:20260421T221503
CREATED:20250108T175511Z
LAST-MODIFIED:20250108T175511Z
UID:5717-1749236400-1749247200@evilhorsebrewing.com
SUMMARY:Live Music with Ted Jones Piano Man
DESCRIPTION:
URL:https://evilhorsebrewing.com/event/live-music-with-ted-jones-piano-man-24/
LOCATION:Evil Horse Brewing Co.\, 1338 Main Street\, CRETE\, IL\, 60417
END:VEVENT
BEGIN:VEVENT
DTSTART;VALUE=DATE:20250602
DTEND;VALUE=DATE:20250603
DTSTAMP:20260421T221503
CREATED:20250227T183655Z
LAST-MODIFIED:20250227T183655Z
UID:6098-1748822400-1748908799@evilhorsebrewing.com
SUMMARY:BEER OF THE WEEK Tapping
DESCRIPTION:
URL:https://evilhorsebrewing.com/event/beer-of-the-week-tapping-22/
LOCATION:Evil Horse Brewing Co.\, 1338 Main Street\, CRETE\, IL\, 60417
END:VEVENT
BEGIN:VEVENT
DTSTART;VALUE=DATE:20250602
DTEND;VALUE=DATE:20250603
DTSTAMP:20260421T221503
CREATED:20250227T181331Z
LAST-MODIFIED:20250227T181331Z
UID:6022-1748822400-1748908799@evilhorsebrewing.com
SUMMARY:$1 off drafts\, ciders & seltzers
DESCRIPTION:
URL:https://evilhorsebrewing.com/event/1-off-drafts-ciders-seltzers-129/
LOCATION:Evil Horse Brewing Co.\, 1338 Main Street\, CRETE\, IL\, 60417
END:VEVENT
BEGIN:VEVENT
DTSTART;VALUE=DATE:20250601
DTEND;VALUE=DATE:20250602
DTSTAMP:20260421T221503
CREATED:20250227T182036Z
LAST-MODIFIED:20250227T182036Z
UID:6050-1748736000-1748822399@evilhorsebrewing.com
SUMMARY:$1 off drafts\, ciders & seltzers
DESCRIPTION:
URL:https://evilhorsebrewing.com/event/1-off-drafts-ciders-seltzers-143/
LOCATION:Evil Horse Brewing Co.\, 1338 Main Street\, CRETE\, IL\, 60417
END:VEVENT
BEGIN:VEVENT
DTSTART;VALUE=DATE:20250601
DTEND;VALUE=DATE:20250602
DTSTAMP:20260421T221503
CREATED:20250227T180747Z
LAST-MODIFIED:20250227T180747Z
UID:6006-1748736000-1748822399@evilhorsebrewing.com
SUMMARY:Tap Take Over with Maplewood Brewing
DESCRIPTION:$8 Sampler Flights \n$1 off drafts
URL:https://evilhorsebrewing.com/event/tap-take-over-with-maplewood-brewing/
LOCATION:Evil Horse Brewing Co.\, 1338 Main Street\, CRETE\, IL\, 60417
END:VEVENT
BEGIN:VEVENT
DTSTART;VALUE=DATE:20250531
DTEND;VALUE=DATE:20250601
DTSTAMP:20260421T221503
CREATED:20250227T180351Z
LAST-MODIFIED:20250227T180351Z
UID:6001-1748649600-1748735999@evilhorsebrewing.com
SUMMARY:To Go Specials
DESCRIPTION:$2 off 4 pack of 16oz cans \n$2 off 6 pack of 12oz cans \n$5 off mixed 12 pack \n$10 pack of the week
URL:https://evilhorsebrewing.com/event/to-go-specials-22/
LOCATION:Evil Horse Brewing Co.\, 1338 Main Street\, CRETE\, IL\, 60417
END:VEVENT
BEGIN:VEVENT
DTSTART;TZID=America/Chicago:20250530T150000
DTEND;TZID=America/Chicago:20250530T180000
DTSTAMP:20260421T221503
CREATED:20250304T181615Z
LAST-MODIFIED:20250304T181615Z
UID:6204-1748617200-1748628000@evilhorsebrewing.com
SUMMARY:HAPPY HOUR
DESCRIPTION:$1 OFF PINTS – $1 OFF CANS – $1 OFF WINE
URL:https://evilhorsebrewing.com/event/happy-hour-62/
LOCATION:Evil Horse Brewing Co.\, 1338 Main Street\, CRETE\, IL\, 60417
END:VEVENT
BEGIN:VEVENT
DTSTART;VALUE=DATE:20250529
DTEND;VALUE=DATE:20250530
DTSTAMP:20260421T221503
CREATED:20250304T180825Z
LAST-MODIFIED:20250304T180825Z
UID:6188-1748476800-1748563199@evilhorsebrewing.com
SUMMARY:$5 BEER IT FORWARD
DESCRIPTION:
URL:https://evilhorsebrewing.com/event/5-beer-it-forward-20/
LOCATION:Evil Horse Brewing Co.\, 1338 Main Street\, CRETE\, IL\, 60417
END:VEVENT
BEGIN:VEVENT
DTSTART;VALUE=DATE:20250529
DTEND;VALUE=DATE:20250530
DTSTAMP:20260421T221503
CREATED:20250304T180451Z
LAST-MODIFIED:20250304T180451Z
UID:6176-1748476800-1748563199@evilhorsebrewing.com
SUMMARY:$8 Sampler Flights
DESCRIPTION:
URL:https://evilhorsebrewing.com/event/8-sampler-flights-53/
LOCATION:Evil Horse Brewing Co.\, 1338 Main Street\, CRETE\, IL\, 60417
END:VEVENT
BEGIN:VEVENT
DTSTART;VALUE=DATE:20250528
DTEND;VALUE=DATE:20250529
DTSTAMP:20260421T221503
CREATED:20250324T173932Z
LAST-MODIFIED:20250324T173932Z
UID:6246-1748390400-1748476799@evilhorsebrewing.com
SUMMARY:$4 POURS
DESCRIPTION:
URL:https://evilhorsebrewing.com/event/4-pours-21/
LOCATION:Evil Horse Brewing Co.\, 1338 Main Street\, CRETE\, IL\, 60417
END:VEVENT
END:VCALENDAR