BEGIN:VCALENDAR
VERSION:2.0
PRODID:-//Evil Horse Brewing Co. - ECPv5.14.2.1//NONSGML v1.0//EN
CALSCALE:GREGORIAN
METHOD:PUBLISH
X-WR-CALNAME:Evil Horse Brewing Co.
X-ORIGINAL-URL:https://evilhorsebrewing.com
X-WR-CALDESC:Events for Evil Horse Brewing Co.
REFRESH-INTERVAL;VALUE=DURATION:PT1H
X-Robots-Tag:noindex
X-PUBLISHED-TTL:PT1H
BEGIN:VTIMEZONE
TZID:America/Chicago
BEGIN:DAYLIGHT
TZOFFSETFROM:-0600
TZOFFSETTO:-0500
TZNAME:CDT
DTSTART:20250309T080000
END:DAYLIGHT
BEGIN:STANDARD
TZOFFSETFROM:-0500
TZOFFSETTO:-0600
TZNAME:CST
DTSTART:20251102T070000
END:STANDARD
END:VTIMEZONE
BEGIN:VEVENT
DTSTART;VALUE=DATE:20250727
DTEND;VALUE=DATE:20250728
DTSTAMP:20260421T130523
CREATED:20250731T175013Z
LAST-MODIFIED:20250731T175013Z
UID:6549-1753574400-1753660799@evilhorsebrewing.com
SUMMARY:SUNDAY FUNDAY!
DESCRIPTION:$1 off drafts\, ciders & seltzers \n$3 off bottles of wine \nBuild your own Bloody Mary Bar!
URL:https://evilhorsebrewing.com/event/sunday-funday-4/
LOCATION:Evil Horse Alehouse\, 1338 Main Street\, Crete\, IL\, 60417\, United States
END:VEVENT
BEGIN:VEVENT
DTSTART;VALUE=DATE:20250726
DTEND;VALUE=DATE:20250727
DTSTAMP:20260421T130523
CREATED:20250731T173820Z
LAST-MODIFIED:20250731T173820Z
UID:6517-1753488000-1753574399@evilhorsebrewing.com
SUMMARY:To Go Specials
DESCRIPTION:$2 off 4 pack of 16oz cans \n$2 off 6 pack of 12oz cans \n$5 off mixed 12 pack
URL:https://evilhorsebrewing.com/event/to-go-specials-31/
LOCATION:Evil Horse Alehouse\, 1338 Main Street\, Crete\, IL\, 60417\, United States
END:VEVENT
BEGIN:VEVENT
DTSTART;TZID=America/Chicago:20250725T150000
DTEND;TZID=America/Chicago:20250725T180000
DTSTAMP:20260421T130523
CREATED:20250731T172637Z
LAST-MODIFIED:20250731T172637Z
UID:6489-1753455600-1753466400@evilhorsebrewing.com
SUMMARY:HAPPY HOUR
DESCRIPTION:$1 OFF PINTS – $1 OFF CANS – $1 OFF WINE
URL:https://evilhorsebrewing.com/event/happy-hour-66/
LOCATION:Evil Horse Alehouse\, 1338 Main Street\, Crete\, IL\, 60417\, United States
END:VEVENT
BEGIN:VEVENT
DTSTART;TZID=America/Chicago:20250724T190000
DTEND;TZID=America/Chicago:20250724T220000
DTSTAMP:20260421T130523
CREATED:20250731T171825Z
LAST-MODIFIED:20250731T171825Z
UID:6463-1753383600-1753394400@evilhorsebrewing.com
SUMMARY:Music Bingo!
DESCRIPTION:
URL:https://evilhorsebrewing.com/event/music-bingo/
LOCATION:Evil Horse Alehouse\, 1338 Main Street\, Crete\, IL\, 60417\, United States
END:VEVENT
BEGIN:VEVENT
DTSTART;VALUE=DATE:20250724
DTEND;VALUE=DATE:20250725
DTSTAMP:20260421T130523
CREATED:20250731T174521Z
LAST-MODIFIED:20250731T174521Z
UID:6531-1753315200-1753401599@evilhorsebrewing.com
SUMMARY:$5 Beer it Forward Coupons
DESCRIPTION:
URL:https://evilhorsebrewing.com/event/5-beer-it-forward-coupons-4/
LOCATION:Evil Horse Alehouse\, 1338 Main Street\, Crete\, IL\, 60417\, United States
END:VEVENT
BEGIN:VEVENT
DTSTART;VALUE=DATE:20250724
DTEND;VALUE=DATE:20250725
DTSTAMP:20260421T130523
CREATED:20250731T171750Z
LAST-MODIFIED:20250731T171750Z
UID:6461-1753315200-1753401599@evilhorsebrewing.com
SUMMARY:$8 Sampler Flights
DESCRIPTION:
URL:https://evilhorsebrewing.com/event/8-sampler-flights-57/
LOCATION:Evil Horse Alehouse\, 1338 Main Street\, Crete\, IL\, 60417\, United States
END:VEVENT
BEGIN:VEVENT
DTSTART;VALUE=DATE:20250723
DTEND;VALUE=DATE:20250724
DTSTAMP:20260421T130523
CREATED:20250731T170946Z
LAST-MODIFIED:20250731T171047Z
UID:6436-1753228800-1753315199@evilhorsebrewing.com
SUMMARY:$6 Aperol Spritz
DESCRIPTION:
URL:https://evilhorsebrewing.com/event/6-aperol-spritz-27/
LOCATION:Evil Horse Brewing Co.\, 1338 Main Street\, CRETE\, IL\, 60417
END:VEVENT
BEGIN:VEVENT
DTSTART;VALUE=DATE:20250723
DTEND;VALUE=DATE:20250724
DTSTAMP:20260421T130523
CREATED:20250731T165911Z
LAST-MODIFIED:20250731T165911Z
UID:6414-1753228800-1753315199@evilhorsebrewing.com
SUMMARY:$4 POURS
DESCRIPTION:
URL:https://evilhorsebrewing.com/event/4-pours-25/
LOCATION:Evil Horse Brewing Co.\, 1338 Main Street\, CRETE\, IL\, 60417
END:VEVENT
BEGIN:VEVENT
DTSTART;TZID=America/Chicago:20250722T150000
DTEND;TZID=America/Chicago:20250722T200000
DTSTAMP:20260421T130523
CREATED:20250731T165238Z
LAST-MODIFIED:20250731T165238Z
UID:6396-1753196400-1753214400@evilhorsebrewing.com
SUMMARY:TACO Tuesday
DESCRIPTION:MARGARITA Special\, $1 off Mexican Lager\, Meatz Big Mama Food Truck Taco Dinner Special
URL:https://evilhorsebrewing.com/event/taco-tuesday-25/
LOCATION:Evil Horse Brewing Co.\, 1338 Main Street\, CRETE\, IL\, 60417
END:VEVENT
BEGIN:VEVENT
DTSTART;VALUE=DATE:20250721
DTEND;VALUE=DATE:20250722
DTSTAMP:20260421T130523
CREATED:20250731T164605Z
LAST-MODIFIED:20250731T164605Z
UID:6376-1753056000-1753142399@evilhorsebrewing.com
SUMMARY:$1 off drafts\, ciders & seltzers
DESCRIPTION:
URL:https://evilhorsebrewing.com/event/1-off-drafts-ciders-seltzers-151/
LOCATION:Evil Horse Brewing Co.\, 1338 Main Street\, CRETE\, IL\, 60417
END:VEVENT
BEGIN:VEVENT
DTSTART;VALUE=DATE:20250721
DTEND;VALUE=DATE:20250722
DTSTAMP:20260421T130523
CREATED:20250731T164040Z
LAST-MODIFIED:20250731T164040Z
UID:6360-1753056000-1753142399@evilhorsebrewing.com
SUMMARY:BEER OF THE WEEK Tapping
DESCRIPTION:
URL:https://evilhorsebrewing.com/event/beer-of-the-week-tapping-31/
LOCATION:Evil Horse Brewing Co.\, 1338 Main Street\, CRETE\, IL\, 60417
END:VEVENT
BEGIN:VEVENT
DTSTART;VALUE=DATE:20250720
DTEND;VALUE=DATE:20250721
DTSTAMP:20260421T130523
CREATED:20250731T174946Z
LAST-MODIFIED:20250731T174946Z
UID:6547-1752969600-1753055999@evilhorsebrewing.com
SUMMARY:SUNDAY FUNDAY!
DESCRIPTION:$1 off drafts\, ciders & seltzers \n$3 off bottles of wine \nBuild your own Bloody Mary Bar!
URL:https://evilhorsebrewing.com/event/sunday-funday-3/
LOCATION:Evil Horse Alehouse\, 1338 Main Street\, Crete\, IL\, 60417\, United States
END:VEVENT
BEGIN:VEVENT
DTSTART;VALUE=DATE:20250719
DTEND;VALUE=DATE:20250720
DTSTAMP:20260421T130523
CREATED:20250731T173352Z
LAST-MODIFIED:20250731T173352Z
UID:6505-1752883200-1752969599@evilhorsebrewing.com
SUMMARY:To Go Specials
DESCRIPTION:$2 off 4 pack of 16oz cans \n$2 off 6 pack of 12oz cans \n$5 off mixed 12 pack
URL:https://evilhorsebrewing.com/event/to-go-specials-25/
LOCATION:Evil Horse Alehouse\, 1338 Main Street\, Crete\, IL\, 60417\, United States
END:VEVENT
BEGIN:VEVENT
DTSTART;TZID=America/Chicago:20250718T150000
DTEND;TZID=America/Chicago:20250718T180000
DTSTAMP:20260421T130523
CREATED:20250731T172607Z
LAST-MODIFIED:20250731T172607Z
UID:6487-1752850800-1752861600@evilhorsebrewing.com
SUMMARY:HAPPY HOUR
DESCRIPTION:$1 OFF PINTS – $1 OFF CANS – $1 OFF WINE
URL:https://evilhorsebrewing.com/event/happy-hour-65/
LOCATION:Evil Horse Alehouse\, 1338 Main Street\, Crete\, IL\, 60417\, United States
END:VEVENT
BEGIN:VEVENT
DTSTART;TZID=America/Chicago:20250717T190000
DTEND;TZID=America/Chicago:20250717T210000
DTSTAMP:20260421T130523
CREATED:20250731T171728Z
LAST-MODIFIED:20250731T171728Z
UID:6459-1752778800-1752786000@evilhorsebrewing.com
SUMMARY:BINGO Night
DESCRIPTION:
URL:https://evilhorsebrewing.com/event/bingo-night-26/
LOCATION:Evil Horse Alehouse\, 1338 Main Street\, Crete\, IL\, 60417\, United States
END:VEVENT
BEGIN:VEVENT
DTSTART;VALUE=DATE:20250717
DTEND;VALUE=DATE:20250718
DTSTAMP:20260421T130523
CREATED:20250731T174500Z
LAST-MODIFIED:20250731T174500Z
UID:6529-1752710400-1752796799@evilhorsebrewing.com
SUMMARY:$5 Beer it Forward Coupons
DESCRIPTION:
URL:https://evilhorsebrewing.com/event/5-beer-it-forward-coupons-3/
LOCATION:Evil Horse Alehouse\, 1338 Main Street\, Crete\, IL\, 60417\, United States
END:VEVENT
BEGIN:VEVENT
DTSTART;VALUE=DATE:20250717
DTEND;VALUE=DATE:20250718
DTSTAMP:20260421T130523
CREATED:20250731T171658Z
LAST-MODIFIED:20250731T171658Z
UID:6457-1752710400-1752796799@evilhorsebrewing.com
SUMMARY:$8 Sampler Flights
DESCRIPTION:
URL:https://evilhorsebrewing.com/event/8-sampler-flights-56/
LOCATION:Evil Horse Alehouse\, 1338 Main Street\, Crete\, IL\, 60417\, United States
END:VEVENT
BEGIN:VEVENT
DTSTART;VALUE=DATE:20250716
DTEND;VALUE=DATE:20250717
DTSTAMP:20260421T130523
CREATED:20250731T170926Z
LAST-MODIFIED:20250731T171110Z
UID:6434-1752624000-1752710399@evilhorsebrewing.com
SUMMARY:$6 Aperol Spritz
DESCRIPTION:  \n 
URL:https://evilhorsebrewing.com/event/6-aperol-spritz-26/
LOCATION:Evil Horse Brewing Co.\, 1338 Main Street\, CRETE\, IL\, 60417
END:VEVENT
BEGIN:VEVENT
DTSTART;VALUE=DATE:20250716
DTEND;VALUE=DATE:20250717
DTSTAMP:20260421T130523
CREATED:20250731T165847Z
LAST-MODIFIED:20250731T165847Z
UID:6412-1752624000-1752710399@evilhorsebrewing.com
SUMMARY:$4 POURS
DESCRIPTION:
URL:https://evilhorsebrewing.com/event/4-pours-24/
LOCATION:Evil Horse Brewing Co.\, 1338 Main Street\, CRETE\, IL\, 60417
END:VEVENT
BEGIN:VEVENT
DTSTART;TZID=America/Chicago:20250715T150000
DTEND;TZID=America/Chicago:20250715T200000
DTSTAMP:20260421T130523
CREATED:20250731T165158Z
LAST-MODIFIED:20250731T165158Z
UID:6394-1752591600-1752609600@evilhorsebrewing.com
SUMMARY:TACO Tuesday
DESCRIPTION:MARGARITA Special\, $1 off Mexican Lager\, Meatz Big Mama Food Truck Taco Dinner Special
URL:https://evilhorsebrewing.com/event/taco-tuesday-24/
LOCATION:Evil Horse Brewing Co.\, 1338 Main Street\, CRETE\, IL\, 60417
END:VEVENT
BEGIN:VEVENT
DTSTART;VALUE=DATE:20250714
DTEND;VALUE=DATE:20250715
DTSTAMP:20260421T130523
CREATED:20250731T164544Z
LAST-MODIFIED:20250731T164544Z
UID:6374-1752451200-1752537599@evilhorsebrewing.com
SUMMARY:$1 off drafts\, ciders & seltzers
DESCRIPTION:
URL:https://evilhorsebrewing.com/event/1-off-drafts-ciders-seltzers-150/
LOCATION:Evil Horse Brewing Co.\, 1338 Main Street\, CRETE\, IL\, 60417
END:VEVENT
BEGIN:VEVENT
DTSTART;VALUE=DATE:20250714
DTEND;VALUE=DATE:20250715
DTSTAMP:20260421T130523
CREATED:20250227T183721Z
LAST-MODIFIED:20250227T184042Z
UID:6100-1752451200-1752537599@evilhorsebrewing.com
SUMMARY:BEER OF THE WEEK Tapping
DESCRIPTION:
URL:https://evilhorsebrewing.com/event/beer-of-the-week-tapping-23/
LOCATION:Evil Horse Brewing Co.\, 1338 Main Street\, CRETE\, IL\, 60417
END:VEVENT
BEGIN:VEVENT
DTSTART;VALUE=DATE:20250713
DTEND;VALUE=DATE:20250714
DTSTAMP:20260421T130523
CREATED:20250731T174915Z
LAST-MODIFIED:20250731T174915Z
UID:6545-1752364800-1752451199@evilhorsebrewing.com
SUMMARY:SUNDAY FUNDAY!
DESCRIPTION:$1 off drafts\, ciders & seltzers \n$3 off bottles of wine \nBuild your own Bloody Mary Bar!
URL:https://evilhorsebrewing.com/event/sunday-funday-2/
LOCATION:Evil Horse Alehouse\, 1338 Main Street\, Crete\, IL\, 60417\, United States
END:VEVENT
BEGIN:VEVENT
DTSTART;VALUE=DATE:20250713
DTEND;VALUE=DATE:20250714
DTSTAMP:20260421T130523
CREATED:20250324T174056Z
LAST-MODIFIED:20250324T174056Z
UID:6248-1752364800-1752451199@evilhorsebrewing.com
SUMMARY:Tap Take Over Event with Revolution Brewing
DESCRIPTION:$8 Sampler Flights \n$1 off drafts!
URL:https://evilhorsebrewing.com/event/tap-take-over-event-with-revolution-brewing/
LOCATION:Evil Horse Brewing Co.\, 1338 Main Street\, CRETE\, IL\, 60417
END:VEVENT
BEGIN:VEVENT
DTSTART;VALUE=DATE:20250712
DTEND;VALUE=DATE:20250713
DTSTAMP:20260421T130523
CREATED:20250731T173316Z
LAST-MODIFIED:20250731T173316Z
UID:6503-1752278400-1752364799@evilhorsebrewing.com
SUMMARY:To Go Specials
DESCRIPTION:$2 off 4 pack of 16oz cans \n$2 off 6 pack of 12oz cans \n$5 off mixed 12 pack
URL:https://evilhorsebrewing.com/event/to-go-specials-24/
LOCATION:Evil Horse Alehouse\, 1338 Main Street\, Crete\, IL\, 60417\, United States
END:VEVENT
BEGIN:VEVENT
DTSTART;TZID=America/Chicago:20250711T150000
DTEND;TZID=America/Chicago:20250711T180000
DTSTAMP:20260421T130523
CREATED:20250731T172534Z
LAST-MODIFIED:20250731T172534Z
UID:6485-1752246000-1752256800@evilhorsebrewing.com
SUMMARY:HAPPY HOUR
DESCRIPTION:$1 OFF PINTS – $1 OFF CANS – $1 OFF WINE
URL:https://evilhorsebrewing.com/event/happy-hour-64/
LOCATION:Evil Horse Alehouse\, 1338 Main Street\, Crete\, IL\, 60417\, United States
END:VEVENT
BEGIN:VEVENT
DTSTART;TZID=America/Chicago:20250710T190000
DTEND;TZID=America/Chicago:20250710T210000
DTSTAMP:20260421T130523
CREATED:20250731T171636Z
LAST-MODIFIED:20250731T171636Z
UID:6455-1752174000-1752181200@evilhorsebrewing.com
SUMMARY:Trivia Night with the Crete Library
DESCRIPTION:
URL:https://evilhorsebrewing.com/event/trivia-night-with-the-crete-library-22/
LOCATION:Evil Horse Alehouse\, 1338 Main Street\, Crete\, IL\, 60417\, United States
END:VEVENT
BEGIN:VEVENT
DTSTART;VALUE=DATE:20250710
DTEND;VALUE=DATE:20250711
DTSTAMP:20260421T130523
CREATED:20250731T174440Z
LAST-MODIFIED:20250731T174440Z
UID:6527-1752105600-1752191999@evilhorsebrewing.com
SUMMARY:$5 Beer it Forward Coupons
DESCRIPTION:
URL:https://evilhorsebrewing.com/event/5-beer-it-forward-coupons-2/
LOCATION:Evil Horse Alehouse\, 1338 Main Street\, Crete\, IL\, 60417\, United States
END:VEVENT
BEGIN:VEVENT
DTSTART;VALUE=DATE:20250710
DTEND;VALUE=DATE:20250711
DTSTAMP:20260421T130523
CREATED:20250731T171601Z
LAST-MODIFIED:20250731T171601Z
UID:6453-1752105600-1752191999@evilhorsebrewing.com
SUMMARY:$8 Sampler Flights
DESCRIPTION:
URL:https://evilhorsebrewing.com/event/8-sampler-flights-55/
LOCATION:Evil Horse Alehouse\, 1338 Main Street\, Crete\, IL\, 60417\, United States
END:VEVENT
BEGIN:VEVENT
DTSTART;VALUE=DATE:20250709
DTEND;VALUE=DATE:20250710
DTSTAMP:20260421T130523
CREATED:20250731T171023Z
LAST-MODIFIED:20250731T171023Z
UID:6438-1752019200-1752105599@evilhorsebrewing.com
SUMMARY:$6 Aperol Spritz
DESCRIPTION:
URL:https://evilhorsebrewing.com/event/6-aperol-spritz-28/
LOCATION:Evil Horse Brewing Co.\, 1338 Main Street\, CRETE\, IL\, 60417
END:VEVENT
END:VCALENDAR