BEGIN:VCALENDAR
VERSION:2.0
PRODID:-//Evil Horse Brewing Co. - ECPv5.14.2.1//NONSGML v1.0//EN
CALSCALE:GREGORIAN
METHOD:PUBLISH
X-WR-CALNAME:Evil Horse Brewing Co.
X-ORIGINAL-URL:https://evilhorsebrewing.com
X-WR-CALDESC:Events for Evil Horse Brewing Co.
REFRESH-INTERVAL;VALUE=DURATION:PT1H
X-Robots-Tag:noindex
X-PUBLISHED-TTL:PT1H
BEGIN:VTIMEZONE
TZID:America/Chicago
BEGIN:DAYLIGHT
TZOFFSETFROM:-0600
TZOFFSETTO:-0500
TZNAME:CDT
DTSTART:20250309T080000
END:DAYLIGHT
BEGIN:STANDARD
TZOFFSETFROM:-0500
TZOFFSETTO:-0600
TZNAME:CST
DTSTART:20251102T070000
END:STANDARD
END:VTIMEZONE
BEGIN:VEVENT
DTSTART;VALUE=DATE:20250806
DTEND;VALUE=DATE:20250807
DTSTAMP:20260421T085445
CREATED:20250806T175606Z
LAST-MODIFIED:20250806T175606Z
UID:6568-1754438400-1754524799@evilhorsebrewing.com
SUMMARY:Whiskey Wednesday
DESCRIPTION:$24 Whiskey Flights \n$12 Old Fashioned \n$1 off Doubles
URL:https://evilhorsebrewing.com/event/whiskey-wednesday/
LOCATION:Evil Horse Alehouse\, 1338 Main Street\, Crete\, IL\, 60417\, United States
END:VEVENT
BEGIN:VEVENT
DTSTART;VALUE=DATE:20250806
DTEND;VALUE=DATE:20250807
DTSTAMP:20260421T085445
CREATED:20250731T171225Z
LAST-MODIFIED:20250731T171225Z
UID:6442-1754438400-1754524799@evilhorsebrewing.com
SUMMARY:$6 Aperol Spritz
DESCRIPTION:
URL:https://evilhorsebrewing.com/event/6-aperol-spritz-30/
LOCATION:Evil Horse Alehouse\, 1338 Main Street\, Crete\, IL\, 60417\, United States
END:VEVENT
BEGIN:VEVENT
DTSTART;VALUE=DATE:20250806
DTEND;VALUE=DATE:20250807
DTSTAMP:20260421T085445
CREATED:20250731T170004Z
LAST-MODIFIED:20250731T170004Z
UID:6418-1754438400-1754524799@evilhorsebrewing.com
SUMMARY:$4 POURS
DESCRIPTION:
URL:https://evilhorsebrewing.com/event/4-pours-27/
LOCATION:Evil Horse Brewing Co.\, 1338 Main Street\, CRETE\, IL\, 60417
END:VEVENT
BEGIN:VEVENT
DTSTART;TZID=America/Chicago:20250805T190000
DTEND;TZID=America/Chicago:20250805T220000
DTSTAMP:20260421T085445
CREATED:20250731T173907Z
LAST-MODIFIED:20250731T173907Z
UID:6519-1754420400-1754431200@evilhorsebrewing.com
SUMMARY:Music Bingo!
DESCRIPTION:
URL:https://evilhorsebrewing.com/event/music-bingo-2/
LOCATION:Evil Horse Alehouse\, 1338 Main Street\, Crete\, IL\, 60417\, United States
END:VEVENT
BEGIN:VEVENT
DTSTART;TZID=America/Chicago:20250805T150000
DTEND;TZID=America/Chicago:20250805T200000
DTSTAMP:20260421T085445
CREATED:20250731T165428Z
LAST-MODIFIED:20250731T165428Z
UID:6400-1754406000-1754424000@evilhorsebrewing.com
SUMMARY:TACO Tuesday
DESCRIPTION:MARGARITA Special\, $1 off Mexican Lager\, Meatz Big Mama Food Truck Taco Dinner Special
URL:https://evilhorsebrewing.com/event/taco-tuesday-27/
LOCATION:Evil Horse Brewing Co.\, 1338 Main Street\, CRETE\, IL\, 60417
END:VEVENT
BEGIN:VEVENT
DTSTART;VALUE=DATE:20250804
DTEND;VALUE=DATE:20250805
DTSTAMP:20260421T085445
CREATED:20250731T164650Z
LAST-MODIFIED:20250731T164650Z
UID:6380-1754265600-1754351999@evilhorsebrewing.com
SUMMARY:$1 off drafts\, ciders & seltzers
DESCRIPTION:
URL:https://evilhorsebrewing.com/event/1-off-drafts-ciders-seltzers-153/
LOCATION:Evil Horse Brewing Co.\, 1338 Main Street\, CRETE\, IL\, 60417
END:VEVENT
BEGIN:VEVENT
DTSTART;VALUE=DATE:20250804
DTEND;VALUE=DATE:20250805
DTSTAMP:20260421T085445
CREATED:20250731T164227Z
LAST-MODIFIED:20250731T164227Z
UID:6364-1754265600-1754351999@evilhorsebrewing.com
SUMMARY:BEER OF THE WEEK Tapping
DESCRIPTION:
URL:https://evilhorsebrewing.com/event/beer-of-the-week-tapping-33/
LOCATION:Evil Horse Brewing Co.\, 1338 Main Street\, CRETE\, IL\, 60417
END:VEVENT
BEGIN:VEVENT
DTSTART;VALUE=DATE:20250803
DTEND;VALUE=DATE:20250804
DTSTAMP:20260421T085445
CREATED:20250731T175122Z
LAST-MODIFIED:20250731T175122Z
UID:6553-1754179200-1754265599@evilhorsebrewing.com
SUMMARY:SUNDAY FUNDAY!
DESCRIPTION:$1 off drafts\, ciders & seltzers \n$3 off bottles of wine \nBuild your own Bloody Mary Bar!
URL:https://evilhorsebrewing.com/event/sunday-funday-5/
LOCATION:Evil Horse Alehouse\, 1338 Main Street\, Crete\, IL\, 60417\, United States
END:VEVENT
BEGIN:VEVENT
DTSTART;VALUE=DATE:20250803
DTEND;VALUE=DATE:20250804
DTSTAMP:20260421T085445
CREATED:20250324T174507Z
LAST-MODIFIED:20250324T174507Z
UID:6250-1754179200-1754265599@evilhorsebrewing.com
SUMMARY:Tap Take OVer Event with Casa Humilde Cerveceria
DESCRIPTION:$8 Sampler Flights – $1 off drafts!
URL:https://evilhorsebrewing.com/event/tap-take-over-event-with-casa-humilde-cerveceria/
LOCATION:Evil Horse Brewing Co.\, 1338 Main Street\, CRETE\, IL\, 60417
END:VEVENT
BEGIN:VEVENT
DTSTART;VALUE=DATE:20250802
DTEND;VALUE=DATE:20250803
DTSTAMP:20260421T085445
CREATED:20250731T173436Z
LAST-MODIFIED:20250731T173436Z
UID:6507-1754092800-1754179199@evilhorsebrewing.com
SUMMARY:To Go Specials
DESCRIPTION:$2 off 4 pack of 16oz cans \n$2 off 6 pack of 12oz cans \n$5 off mixed 12 pack
URL:https://evilhorsebrewing.com/event/to-go-specials-26/
LOCATION:Evil Horse Alehouse\, 1338 Main Street\, Crete\, IL\, 60417\, United States
END:VEVENT
BEGIN:VEVENT
DTSTART;TZID=America/Chicago:20250801T150000
DTEND;TZID=America/Chicago:20250801T180000
DTSTAMP:20260421T085445
CREATED:20250731T172725Z
LAST-MODIFIED:20250731T172725Z
UID:6491-1754060400-1754071200@evilhorsebrewing.com
SUMMARY:HAPPY HOUR
DESCRIPTION:$1 OFF PINTS – $1 OFF CANS – $1 OFF WINE
URL:https://evilhorsebrewing.com/event/happy-hour-67/
LOCATION:Evil Horse Alehouse\, 1338 Main Street\, Crete\, IL\, 60417\, United States
END:VEVENT
BEGIN:VEVENT
DTSTART;TZID=America/Chicago:20250731T180000
DTEND;TZID=America/Chicago:20250731T210000
DTSTAMP:20260421T085445
CREATED:20250731T171932Z
LAST-MODIFIED:20250731T171932Z
UID:6467-1753984800-1753995600@evilhorsebrewing.com
SUMMARY:STERN Pinball Tournament
DESCRIPTION:
URL:https://evilhorsebrewing.com/event/stern-pinball-tournament-12/
LOCATION:Evil Horse Alehouse\, 1338 Main Street\, Crete\, IL\, 60417\, United States
END:VEVENT
BEGIN:VEVENT
DTSTART;VALUE=DATE:20250731
DTEND;VALUE=DATE:20250801
DTSTAMP:20260421T085445
CREATED:20250731T174725Z
LAST-MODIFIED:20250731T174725Z
UID:6541-1753920000-1754006399@evilhorsebrewing.com
SUMMARY:$5 Beer it Forward Coupons
DESCRIPTION:
URL:https://evilhorsebrewing.com/event/5-beer-it-forward-coupons-9/
LOCATION:Evil Horse Alehouse\, 1338 Main Street\, Crete\, IL\, 60417\, United States
END:VEVENT
BEGIN:VEVENT
DTSTART;VALUE=DATE:20250731
DTEND;VALUE=DATE:20250801
DTSTAMP:20260421T085445
CREATED:20250731T171901Z
LAST-MODIFIED:20250731T171901Z
UID:6465-1753920000-1754006399@evilhorsebrewing.com
SUMMARY:$8 Sampler Flights
DESCRIPTION:
URL:https://evilhorsebrewing.com/event/8-sampler-flights-58/
LOCATION:Evil Horse Alehouse\, 1338 Main Street\, Crete\, IL\, 60417\, United States
END:VEVENT
BEGIN:VEVENT
DTSTART;VALUE=DATE:20250730
DTEND;VALUE=DATE:20250731
DTSTAMP:20260421T085445
CREATED:20250731T171134Z
LAST-MODIFIED:20250731T171134Z
UID:6440-1753833600-1753919999@evilhorsebrewing.com
SUMMARY:$6 Aperol Spritz
DESCRIPTION:
URL:https://evilhorsebrewing.com/event/6-aperol-spritz-29/
LOCATION:Evil Horse Brewing Co.\, 1338 Main Street\, CRETE\, IL\, 60417
END:VEVENT
BEGIN:VEVENT
DTSTART;VALUE=DATE:20250730
DTEND;VALUE=DATE:20250731
DTSTAMP:20260421T085445
CREATED:20250731T165936Z
LAST-MODIFIED:20250731T165936Z
UID:6416-1753833600-1753919999@evilhorsebrewing.com
SUMMARY:$4 POURS
DESCRIPTION:
URL:https://evilhorsebrewing.com/event/4-pours-26/
LOCATION:Evil Horse Brewing Co.\, 1338 Main Street\, CRETE\, IL\, 60417
END:VEVENT
BEGIN:VEVENT
DTSTART;TZID=America/Chicago:20250729T150000
DTEND;TZID=America/Chicago:20250729T200000
DTSTAMP:20260421T085445
CREATED:20250731T165322Z
LAST-MODIFIED:20250731T165322Z
UID:6398-1753801200-1753819200@evilhorsebrewing.com
SUMMARY:TACO Tuesday
DESCRIPTION:MARGARITA Special\, $1 off Mexican Lager\, Meatz Big Mama Food Truck Taco Dinner Special
URL:https://evilhorsebrewing.com/event/taco-tuesday-26/
LOCATION:Evil Horse Brewing Co.\, 1338 Main Street\, CRETE\, IL\, 60417
END:VEVENT
BEGIN:VEVENT
DTSTART;VALUE=DATE:20250728
DTEND;VALUE=DATE:20250729
DTSTAMP:20260421T085445
CREATED:20250731T164629Z
LAST-MODIFIED:20250731T164629Z
UID:6378-1753660800-1753747199@evilhorsebrewing.com
SUMMARY:$1 off drafts\, ciders & seltzers
DESCRIPTION:
URL:https://evilhorsebrewing.com/event/1-off-drafts-ciders-seltzers-152/
LOCATION:Evil Horse Brewing Co.\, 1338 Main Street\, CRETE\, IL\, 60417
END:VEVENT
BEGIN:VEVENT
DTSTART;VALUE=DATE:20250728
DTEND;VALUE=DATE:20250729
DTSTAMP:20260421T085445
CREATED:20250731T164203Z
LAST-MODIFIED:20250731T164203Z
UID:6362-1753660800-1753747199@evilhorsebrewing.com
SUMMARY:BEER OF THE WEEK Tapping
DESCRIPTION:
URL:https://evilhorsebrewing.com/event/beer-of-the-week-tapping-32/
LOCATION:Evil Horse Brewing Co.\, 1338 Main Street\, CRETE\, IL\, 60417
END:VEVENT
BEGIN:VEVENT
DTSTART;TZID=America/Chicago:20250727T170000
DTEND;TZID=America/Chicago:20250727T193000
DTSTAMP:20260421T085445
CREATED:20250731T175044Z
LAST-MODIFIED:20250731T175044Z
UID:6551-1753635600-1753644600@evilhorsebrewing.com
SUMMARY:Open Mic with Mike Wallace
DESCRIPTION:
URL:https://evilhorsebrewing.com/event/open-mic-with-mike-wallace/
LOCATION:Evil Horse Alehouse\, 1338 Main Street\, Crete\, IL\, 60417\, United States
END:VEVENT
BEGIN:VEVENT
DTSTART;VALUE=DATE:20250727
DTEND;VALUE=DATE:20250728
DTSTAMP:20260421T085445
CREATED:20250731T175013Z
LAST-MODIFIED:20250731T175013Z
UID:6549-1753574400-1753660799@evilhorsebrewing.com
SUMMARY:SUNDAY FUNDAY!
DESCRIPTION:$1 off drafts\, ciders & seltzers \n$3 off bottles of wine \nBuild your own Bloody Mary Bar!
URL:https://evilhorsebrewing.com/event/sunday-funday-4/
LOCATION:Evil Horse Alehouse\, 1338 Main Street\, Crete\, IL\, 60417\, United States
END:VEVENT
BEGIN:VEVENT
DTSTART;VALUE=DATE:20250726
DTEND;VALUE=DATE:20250727
DTSTAMP:20260421T085445
CREATED:20250731T173820Z
LAST-MODIFIED:20250731T173820Z
UID:6517-1753488000-1753574399@evilhorsebrewing.com
SUMMARY:To Go Specials
DESCRIPTION:$2 off 4 pack of 16oz cans \n$2 off 6 pack of 12oz cans \n$5 off mixed 12 pack
URL:https://evilhorsebrewing.com/event/to-go-specials-31/
LOCATION:Evil Horse Alehouse\, 1338 Main Street\, Crete\, IL\, 60417\, United States
END:VEVENT
BEGIN:VEVENT
DTSTART;TZID=America/Chicago:20250725T150000
DTEND;TZID=America/Chicago:20250725T180000
DTSTAMP:20260421T085445
CREATED:20250731T172637Z
LAST-MODIFIED:20250731T172637Z
UID:6489-1753455600-1753466400@evilhorsebrewing.com
SUMMARY:HAPPY HOUR
DESCRIPTION:$1 OFF PINTS – $1 OFF CANS – $1 OFF WINE
URL:https://evilhorsebrewing.com/event/happy-hour-66/
LOCATION:Evil Horse Alehouse\, 1338 Main Street\, Crete\, IL\, 60417\, United States
END:VEVENT
BEGIN:VEVENT
DTSTART;TZID=America/Chicago:20250724T190000
DTEND;TZID=America/Chicago:20250724T220000
DTSTAMP:20260421T085445
CREATED:20250731T171825Z
LAST-MODIFIED:20250731T171825Z
UID:6463-1753383600-1753394400@evilhorsebrewing.com
SUMMARY:Music Bingo!
DESCRIPTION:
URL:https://evilhorsebrewing.com/event/music-bingo/
LOCATION:Evil Horse Alehouse\, 1338 Main Street\, Crete\, IL\, 60417\, United States
END:VEVENT
BEGIN:VEVENT
DTSTART;VALUE=DATE:20250724
DTEND;VALUE=DATE:20250725
DTSTAMP:20260421T085445
CREATED:20250731T174521Z
LAST-MODIFIED:20250731T174521Z
UID:6531-1753315200-1753401599@evilhorsebrewing.com
SUMMARY:$5 Beer it Forward Coupons
DESCRIPTION:
URL:https://evilhorsebrewing.com/event/5-beer-it-forward-coupons-4/
LOCATION:Evil Horse Alehouse\, 1338 Main Street\, Crete\, IL\, 60417\, United States
END:VEVENT
BEGIN:VEVENT
DTSTART;VALUE=DATE:20250724
DTEND;VALUE=DATE:20250725
DTSTAMP:20260421T085445
CREATED:20250731T171750Z
LAST-MODIFIED:20250731T171750Z
UID:6461-1753315200-1753401599@evilhorsebrewing.com
SUMMARY:$8 Sampler Flights
DESCRIPTION:
URL:https://evilhorsebrewing.com/event/8-sampler-flights-57/
LOCATION:Evil Horse Alehouse\, 1338 Main Street\, Crete\, IL\, 60417\, United States
END:VEVENT
BEGIN:VEVENT
DTSTART;VALUE=DATE:20250723
DTEND;VALUE=DATE:20250724
DTSTAMP:20260421T085445
CREATED:20250731T170946Z
LAST-MODIFIED:20250731T171047Z
UID:6436-1753228800-1753315199@evilhorsebrewing.com
SUMMARY:$6 Aperol Spritz
DESCRIPTION:
URL:https://evilhorsebrewing.com/event/6-aperol-spritz-27/
LOCATION:Evil Horse Brewing Co.\, 1338 Main Street\, CRETE\, IL\, 60417
END:VEVENT
BEGIN:VEVENT
DTSTART;VALUE=DATE:20250723
DTEND;VALUE=DATE:20250724
DTSTAMP:20260421T085445
CREATED:20250731T165911Z
LAST-MODIFIED:20250731T165911Z
UID:6414-1753228800-1753315199@evilhorsebrewing.com
SUMMARY:$4 POURS
DESCRIPTION:
URL:https://evilhorsebrewing.com/event/4-pours-25/
LOCATION:Evil Horse Brewing Co.\, 1338 Main Street\, CRETE\, IL\, 60417
END:VEVENT
BEGIN:VEVENT
DTSTART;TZID=America/Chicago:20250722T150000
DTEND;TZID=America/Chicago:20250722T200000
DTSTAMP:20260421T085445
CREATED:20250731T165238Z
LAST-MODIFIED:20250731T165238Z
UID:6396-1753196400-1753214400@evilhorsebrewing.com
SUMMARY:TACO Tuesday
DESCRIPTION:MARGARITA Special\, $1 off Mexican Lager\, Meatz Big Mama Food Truck Taco Dinner Special
URL:https://evilhorsebrewing.com/event/taco-tuesday-25/
LOCATION:Evil Horse Brewing Co.\, 1338 Main Street\, CRETE\, IL\, 60417
END:VEVENT
BEGIN:VEVENT
DTSTART;VALUE=DATE:20250721
DTEND;VALUE=DATE:20250722
DTSTAMP:20260421T085445
CREATED:20250731T164605Z
LAST-MODIFIED:20250731T164605Z
UID:6376-1753056000-1753142399@evilhorsebrewing.com
SUMMARY:$1 off drafts\, ciders & seltzers
DESCRIPTION:
URL:https://evilhorsebrewing.com/event/1-off-drafts-ciders-seltzers-151/
LOCATION:Evil Horse Brewing Co.\, 1338 Main Street\, CRETE\, IL\, 60417
END:VEVENT
END:VCALENDAR