BEGIN:VCALENDAR
VERSION:2.0
PRODID:-//Evil Horse Brewing Co. - ECPv5.14.2.1//NONSGML v1.0//EN
CALSCALE:GREGORIAN
METHOD:PUBLISH
X-WR-CALNAME:Evil Horse Brewing Co.
X-ORIGINAL-URL:https://evilhorsebrewing.com
X-WR-CALDESC:Events for Evil Horse Brewing Co.
REFRESH-INTERVAL;VALUE=DURATION:PT1H
X-Robots-Tag:noindex
X-PUBLISHED-TTL:PT1H
BEGIN:VTIMEZONE
TZID:America/Chicago
BEGIN:DAYLIGHT
TZOFFSETFROM:-0600
TZOFFSETTO:-0500
TZNAME:CDT
DTSTART:20250309T080000
END:DAYLIGHT
BEGIN:STANDARD
TZOFFSETFROM:-0500
TZOFFSETTO:-0600
TZNAME:CST
DTSTART:20251102T070000
END:STANDARD
END:VTIMEZONE
BEGIN:VEVENT
DTSTART;VALUE=DATE:20250817
DTEND;VALUE=DATE:20250818
DTSTAMP:20260421T204026
CREATED:20250731T175358Z
LAST-MODIFIED:20250731T175358Z
UID:6559-1755388800-1755475199@evilhorsebrewing.com
SUMMARY:SUNDAY FUNDAY!
DESCRIPTION:$1 off drafts\, ciders & seltzers \n$3 off bottles of wine \nBuild your own Bloody Mary Bar!
URL:https://evilhorsebrewing.com/event/sunday-funday-7/
LOCATION:Evil Horse Alehouse\, 1338 Main Street\, Crete\, IL\, 60417\, United States
END:VEVENT
BEGIN:VEVENT
DTSTART;VALUE=DATE:20250816
DTEND;VALUE=DATE:20250817
DTSTAMP:20260421T204026
CREATED:20250731T173548Z
LAST-MODIFIED:20250731T173548Z
UID:6511-1755302400-1755388799@evilhorsebrewing.com
SUMMARY:To Go Specials
DESCRIPTION:$2 off 4 pack of 16oz cans \n$2 off 6 pack of 12oz cans \n$5 off mixed 12 pack
URL:https://evilhorsebrewing.com/event/to-go-specials-28/
LOCATION:Evil Horse Alehouse\, 1338 Main Street\, Crete\, IL\, 60417\, United States
END:VEVENT
BEGIN:VEVENT
DTSTART;TZID=America/Chicago:20250815T180000
DTEND;TZID=America/Chicago:20250815T210000
DTSTAMP:20260421T204026
CREATED:20250731T174254Z
LAST-MODIFIED:20250731T174254Z
UID:6523-1755280800-1755291600@evilhorsebrewing.com
SUMMARY:HIBACHI Night!
DESCRIPTION:Join us as Suki Hibachi presents an authentic Japanese Hibachi dinner in our own backyard!  Reservations are required.  $60 per person\, includes salad\, fried rice\, hibachi noodles\, entree choice of beef\, chicken or shrimp\, a beverage and a culinary show!
URL:https://evilhorsebrewing.com/event/hibachi-night/
LOCATION:Evil Horse Alehouse\, 1338 Main Street\, Crete\, IL\, 60417\, United States
END:VEVENT
BEGIN:VEVENT
DTSTART;TZID=America/Chicago:20250815T150000
DTEND;TZID=America/Chicago:20250815T180000
DTSTAMP:20260421T204026
CREATED:20250731T172835Z
LAST-MODIFIED:20250731T172835Z
UID:6495-1755270000-1755280800@evilhorsebrewing.com
SUMMARY:HAPPY HOUR
DESCRIPTION:$1 OFF PINTS – $1 OFF CANS – $1 OFF WINE
URL:https://evilhorsebrewing.com/event/happy-hour-69/
LOCATION:Evil Horse Alehouse\, 1338 Main Street\, Crete\, IL\, 60417\, United States
END:VEVENT
BEGIN:VEVENT
DTSTART;TZID=America/Chicago:20250814T190000
DTEND;TZID=America/Chicago:20250814T210000
DTSTAMP:20260421T204026
CREATED:20250731T172121Z
LAST-MODIFIED:20250731T172121Z
UID:6475-1755198000-1755205200@evilhorsebrewing.com
SUMMARY:Trivia Night with the Crete Library
DESCRIPTION:
URL:https://evilhorsebrewing.com/event/trivia-night-with-the-crete-library-23/
LOCATION:Evil Horse Alehouse\, 1338 Main Street\, Crete\, IL\, 60417\, United States
END:VEVENT
BEGIN:VEVENT
DTSTART;VALUE=DATE:20250814
DTEND;VALUE=DATE:20250815
DTSTAMP:20260421T204026
CREATED:20250731T174604Z
LAST-MODIFIED:20250731T174604Z
UID:6535-1755129600-1755215999@evilhorsebrewing.com
SUMMARY:$5 Beer it Forward Coupons
DESCRIPTION:
URL:https://evilhorsebrewing.com/event/5-beer-it-forward-coupons-6/
LOCATION:Evil Horse Alehouse\, 1338 Main Street\, Crete\, IL\, 60417\, United States
END:VEVENT
BEGIN:VEVENT
DTSTART;VALUE=DATE:20250814
DTEND;VALUE=DATE:20250815
DTSTAMP:20260421T204026
CREATED:20250731T172042Z
LAST-MODIFIED:20250731T172042Z
UID:6473-1755129600-1755215999@evilhorsebrewing.com
SUMMARY:$8 Sampler Flights
DESCRIPTION:
URL:https://evilhorsebrewing.com/event/8-sampler-flights-60/
LOCATION:Evil Horse Alehouse\, 1338 Main Street\, Crete\, IL\, 60417\, United States
END:VEVENT
BEGIN:VEVENT
DTSTART;VALUE=DATE:20250813
DTEND;VALUE=DATE:20250814
DTSTAMP:20260421T204026
CREATED:20250806T175636Z
LAST-MODIFIED:20250806T175636Z
UID:6570-1755043200-1755129599@evilhorsebrewing.com
SUMMARY:Whiskey Wednesday
DESCRIPTION:$24 Whiskey Flights \n$12 Old Fashioned \n$1 off Doubles
URL:https://evilhorsebrewing.com/event/whiskey-wednesday-2/
LOCATION:Evil Horse Alehouse\, 1338 Main Street\, Crete\, IL\, 60417\, United States
END:VEVENT
BEGIN:VEVENT
DTSTART;VALUE=DATE:20250813
DTEND;VALUE=DATE:20250814
DTSTAMP:20260421T204026
CREATED:20250731T171307Z
LAST-MODIFIED:20250731T171307Z
UID:6447-1755043200-1755129599@evilhorsebrewing.com
SUMMARY:$6 Aperol Spritz
DESCRIPTION:
URL:https://evilhorsebrewing.com/event/6-aperol-spritz-32/
LOCATION:Evil Horse Alehouse\, 1338 Main Street\, Crete\, IL\, 60417\, United States
END:VEVENT
BEGIN:VEVENT
DTSTART;VALUE=DATE:20250813
DTEND;VALUE=DATE:20250814
DTSTAMP:20260421T204026
CREATED:20250731T170030Z
LAST-MODIFIED:20250731T170030Z
UID:6420-1755043200-1755129599@evilhorsebrewing.com
SUMMARY:$4 POURS
DESCRIPTION:
URL:https://evilhorsebrewing.com/event/4-pours-28/
LOCATION:Evil Horse Brewing Co.\, 1338 Main Street\, CRETE\, IL\, 60417
END:VEVENT
BEGIN:VEVENT
DTSTART;TZID=America/Chicago:20250812T150000
DTEND;TZID=America/Chicago:20250812T200000
DTSTAMP:20260421T204026
CREATED:20250731T165511Z
LAST-MODIFIED:20250731T165511Z
UID:6402-1755010800-1755028800@evilhorsebrewing.com
SUMMARY:TACO Tuesday
DESCRIPTION:MARGARITA Special\, $1 off Mexican Lager\, Meatz Big Mama Food Truck Taco Dinner Special
URL:https://evilhorsebrewing.com/event/taco-tuesday-28/
LOCATION:Evil Horse Brewing Co.\, 1338 Main Street\, CRETE\, IL\, 60417
END:VEVENT
BEGIN:VEVENT
DTSTART;VALUE=DATE:20250811
DTEND;VALUE=DATE:20250812
DTSTAMP:20260421T204026
CREATED:20250731T164712Z
LAST-MODIFIED:20250731T164712Z
UID:6382-1754870400-1754956799@evilhorsebrewing.com
SUMMARY:$1 off drafts\, ciders & seltzers
DESCRIPTION:
URL:https://evilhorsebrewing.com/event/1-off-drafts-ciders-seltzers-154/
LOCATION:Evil Horse Brewing Co.\, 1338 Main Street\, CRETE\, IL\, 60417
END:VEVENT
BEGIN:VEVENT
DTSTART;VALUE=DATE:20250811
DTEND;VALUE=DATE:20250812
DTSTAMP:20260421T204026
CREATED:20250731T164251Z
LAST-MODIFIED:20250731T164251Z
UID:6366-1754870400-1754956799@evilhorsebrewing.com
SUMMARY:BEER OF THE WEEK Tapping
DESCRIPTION:
URL:https://evilhorsebrewing.com/event/beer-of-the-week-tapping-34/
LOCATION:Evil Horse Brewing Co.\, 1338 Main Street\, CRETE\, IL\, 60417
END:VEVENT
BEGIN:VEVENT
DTSTART;TZID=America/Chicago:20250810T170000
DTEND;TZID=America/Chicago:20250810T193000
DTSTAMP:20260421T204026
CREATED:20250731T175327Z
LAST-MODIFIED:20250731T175327Z
UID:6557-1754845200-1754854200@evilhorsebrewing.com
SUMMARY:Open Mic with Mike Wallace
DESCRIPTION:
URL:https://evilhorsebrewing.com/event/open-mic-with-mike-wallace-2/
LOCATION:Evil Horse Alehouse\, 1338 Main Street\, Crete\, IL\, 60417\, United States
END:VEVENT
BEGIN:VEVENT
DTSTART;VALUE=DATE:20250810
DTEND;VALUE=DATE:20250811
DTSTAMP:20260421T204026
CREATED:20250731T175155Z
LAST-MODIFIED:20250731T175155Z
UID:6555-1754784000-1754870399@evilhorsebrewing.com
SUMMARY:SUNDAY FUNDAY!
DESCRIPTION:$1 off drafts\, ciders & seltzers \n$3 off bottles of wine \nBuild your own Bloody Mary Bar!
URL:https://evilhorsebrewing.com/event/sunday-funday-6/
LOCATION:Evil Horse Alehouse\, 1338 Main Street\, Crete\, IL\, 60417\, United States
END:VEVENT
BEGIN:VEVENT
DTSTART;VALUE=DATE:20250809
DTEND;VALUE=DATE:20250810
DTSTAMP:20260421T204026
CREATED:20250731T173508Z
LAST-MODIFIED:20250731T173508Z
UID:6509-1754697600-1754783999@evilhorsebrewing.com
SUMMARY:To Go Specials
DESCRIPTION:$2 off 4 pack of 16oz cans \n$2 off 6 pack of 12oz cans \n$5 off mixed 12 pack
URL:https://evilhorsebrewing.com/event/to-go-specials-27/
LOCATION:Evil Horse Alehouse\, 1338 Main Street\, Crete\, IL\, 60417\, United States
END:VEVENT
BEGIN:VEVENT
DTSTART;TZID=America/Chicago:20250808T150000
DTEND;TZID=America/Chicago:20250808T180000
DTSTAMP:20260421T204026
CREATED:20250731T172759Z
LAST-MODIFIED:20250731T172759Z
UID:6493-1754665200-1754676000@evilhorsebrewing.com
SUMMARY:HAPPY HOUR
DESCRIPTION:$1 OFF PINTS – $1 OFF CANS – $1 OFF WINE
URL:https://evilhorsebrewing.com/event/happy-hour-68/
LOCATION:Evil Horse Alehouse\, 1338 Main Street\, Crete\, IL\, 60417\, United States
END:VEVENT
BEGIN:VEVENT
DTSTART;TZID=America/Chicago:20250807T190000
DTEND;TZID=America/Chicago:20250807T210000
DTSTAMP:20260421T204026
CREATED:20250731T172024Z
LAST-MODIFIED:20250731T172024Z
UID:6471-1754593200-1754600400@evilhorsebrewing.com
SUMMARY:BINGO Night
DESCRIPTION:
URL:https://evilhorsebrewing.com/event/bingo-night-27/
LOCATION:Evil Horse Alehouse\, 1338 Main Street\, Crete\, IL\, 60417\, United States
END:VEVENT
BEGIN:VEVENT
DTSTART;VALUE=DATE:20250807
DTEND;VALUE=DATE:20250808
DTSTAMP:20260421T204026
CREATED:20250731T174540Z
LAST-MODIFIED:20250731T174540Z
UID:6533-1754524800-1754611199@evilhorsebrewing.com
SUMMARY:$5 Beer it Forward Coupons
DESCRIPTION:
URL:https://evilhorsebrewing.com/event/5-beer-it-forward-coupons-5/
LOCATION:Evil Horse Alehouse\, 1338 Main Street\, Crete\, IL\, 60417\, United States
END:VEVENT
BEGIN:VEVENT
DTSTART;VALUE=DATE:20250807
DTEND;VALUE=DATE:20250808
DTSTAMP:20260421T204026
CREATED:20250731T171954Z
LAST-MODIFIED:20250731T171954Z
UID:6469-1754524800-1754611199@evilhorsebrewing.com
SUMMARY:$8 Sampler Flights
DESCRIPTION:
URL:https://evilhorsebrewing.com/event/8-sampler-flights-59/
LOCATION:Evil Horse Alehouse\, 1338 Main Street\, Crete\, IL\, 60417\, United States
END:VEVENT
BEGIN:VEVENT
DTSTART;VALUE=DATE:20250806
DTEND;VALUE=DATE:20250807
DTSTAMP:20260421T204026
CREATED:20250806T175606Z
LAST-MODIFIED:20250806T175606Z
UID:6568-1754438400-1754524799@evilhorsebrewing.com
SUMMARY:Whiskey Wednesday
DESCRIPTION:$24 Whiskey Flights \n$12 Old Fashioned \n$1 off Doubles
URL:https://evilhorsebrewing.com/event/whiskey-wednesday/
LOCATION:Evil Horse Alehouse\, 1338 Main Street\, Crete\, IL\, 60417\, United States
END:VEVENT
BEGIN:VEVENT
DTSTART;VALUE=DATE:20250806
DTEND;VALUE=DATE:20250807
DTSTAMP:20260421T204026
CREATED:20250731T171225Z
LAST-MODIFIED:20250731T171225Z
UID:6442-1754438400-1754524799@evilhorsebrewing.com
SUMMARY:$6 Aperol Spritz
DESCRIPTION:
URL:https://evilhorsebrewing.com/event/6-aperol-spritz-30/
LOCATION:Evil Horse Alehouse\, 1338 Main Street\, Crete\, IL\, 60417\, United States
END:VEVENT
BEGIN:VEVENT
DTSTART;VALUE=DATE:20250806
DTEND;VALUE=DATE:20250807
DTSTAMP:20260421T204026
CREATED:20250731T170004Z
LAST-MODIFIED:20250731T170004Z
UID:6418-1754438400-1754524799@evilhorsebrewing.com
SUMMARY:$4 POURS
DESCRIPTION:
URL:https://evilhorsebrewing.com/event/4-pours-27/
LOCATION:Evil Horse Brewing Co.\, 1338 Main Street\, CRETE\, IL\, 60417
END:VEVENT
BEGIN:VEVENT
DTSTART;TZID=America/Chicago:20250805T190000
DTEND;TZID=America/Chicago:20250805T220000
DTSTAMP:20260421T204026
CREATED:20250731T173907Z
LAST-MODIFIED:20250731T173907Z
UID:6519-1754420400-1754431200@evilhorsebrewing.com
SUMMARY:Music Bingo!
DESCRIPTION:
URL:https://evilhorsebrewing.com/event/music-bingo-2/
LOCATION:Evil Horse Alehouse\, 1338 Main Street\, Crete\, IL\, 60417\, United States
END:VEVENT
BEGIN:VEVENT
DTSTART;TZID=America/Chicago:20250805T150000
DTEND;TZID=America/Chicago:20250805T200000
DTSTAMP:20260421T204026
CREATED:20250731T165428Z
LAST-MODIFIED:20250731T165428Z
UID:6400-1754406000-1754424000@evilhorsebrewing.com
SUMMARY:TACO Tuesday
DESCRIPTION:MARGARITA Special\, $1 off Mexican Lager\, Meatz Big Mama Food Truck Taco Dinner Special
URL:https://evilhorsebrewing.com/event/taco-tuesday-27/
LOCATION:Evil Horse Brewing Co.\, 1338 Main Street\, CRETE\, IL\, 60417
END:VEVENT
BEGIN:VEVENT
DTSTART;VALUE=DATE:20250804
DTEND;VALUE=DATE:20250805
DTSTAMP:20260421T204026
CREATED:20250731T164650Z
LAST-MODIFIED:20250731T164650Z
UID:6380-1754265600-1754351999@evilhorsebrewing.com
SUMMARY:$1 off drafts\, ciders & seltzers
DESCRIPTION:
URL:https://evilhorsebrewing.com/event/1-off-drafts-ciders-seltzers-153/
LOCATION:Evil Horse Brewing Co.\, 1338 Main Street\, CRETE\, IL\, 60417
END:VEVENT
BEGIN:VEVENT
DTSTART;VALUE=DATE:20250804
DTEND;VALUE=DATE:20250805
DTSTAMP:20260421T204026
CREATED:20250731T164227Z
LAST-MODIFIED:20250731T164227Z
UID:6364-1754265600-1754351999@evilhorsebrewing.com
SUMMARY:BEER OF THE WEEK Tapping
DESCRIPTION:
URL:https://evilhorsebrewing.com/event/beer-of-the-week-tapping-33/
LOCATION:Evil Horse Brewing Co.\, 1338 Main Street\, CRETE\, IL\, 60417
END:VEVENT
BEGIN:VEVENT
DTSTART;VALUE=DATE:20250803
DTEND;VALUE=DATE:20250804
DTSTAMP:20260421T204026
CREATED:20250731T175122Z
LAST-MODIFIED:20250731T175122Z
UID:6553-1754179200-1754265599@evilhorsebrewing.com
SUMMARY:SUNDAY FUNDAY!
DESCRIPTION:$1 off drafts\, ciders & seltzers \n$3 off bottles of wine \nBuild your own Bloody Mary Bar!
URL:https://evilhorsebrewing.com/event/sunday-funday-5/
LOCATION:Evil Horse Alehouse\, 1338 Main Street\, Crete\, IL\, 60417\, United States
END:VEVENT
BEGIN:VEVENT
DTSTART;VALUE=DATE:20250803
DTEND;VALUE=DATE:20250804
DTSTAMP:20260421T204026
CREATED:20250324T174507Z
LAST-MODIFIED:20250324T174507Z
UID:6250-1754179200-1754265599@evilhorsebrewing.com
SUMMARY:Tap Take OVer Event with Casa Humilde Cerveceria
DESCRIPTION:$8 Sampler Flights – $1 off drafts!
URL:https://evilhorsebrewing.com/event/tap-take-over-event-with-casa-humilde-cerveceria/
LOCATION:Evil Horse Brewing Co.\, 1338 Main Street\, CRETE\, IL\, 60417
END:VEVENT
BEGIN:VEVENT
DTSTART;VALUE=DATE:20250802
DTEND;VALUE=DATE:20250803
DTSTAMP:20260421T204026
CREATED:20250731T173436Z
LAST-MODIFIED:20250731T173436Z
UID:6507-1754092800-1754179199@evilhorsebrewing.com
SUMMARY:To Go Specials
DESCRIPTION:$2 off 4 pack of 16oz cans \n$2 off 6 pack of 12oz cans \n$5 off mixed 12 pack
URL:https://evilhorsebrewing.com/event/to-go-specials-26/
LOCATION:Evil Horse Alehouse\, 1338 Main Street\, Crete\, IL\, 60417\, United States
END:VEVENT
END:VCALENDAR